BEGIN:VCALENDAR
VERSION:2.0
PRODID:-//Paneuropa - ECPv6.3.5//NONSGML v1.0//EN
CALSCALE:GREGORIAN
METHOD:PUBLISH
X-ORIGINAL-URL:https://www.paneuropa.at
X-WR-CALDESC:Veranstaltungen für Paneuropa
REFRESH-INTERVAL;VALUE=DURATION:PT1H
X-Robots-Tag:noindex
X-PUBLISHED-TTL:PT1H
BEGIN:VTIMEZONE
TZID:Europe/Vienna
BEGIN:DAYLIGHT
TZOFFSETFROM:+0100
TZOFFSETTO:+0200
TZNAME:CEST
DTSTART:20230326T010000
END:DAYLIGHT
BEGIN:STANDARD
TZOFFSETFROM:+0200
TZOFFSETTO:+0100
TZNAME:CET
DTSTART:20231029T010000
END:STANDARD
END:VTIMEZONE
BEGIN:VEVENT
DTSTART;TZID=Europe/Vienna:20231017T183000
DTEND;TZID=Europe/Vienna:20231017T200000
DTSTAMP:20260421T113259
CREATED:20231003T154651Z
LAST-MODIFIED:20231003T154651Z
UID:3172-1697567400-1697572800@www.paneuropa.at
SUMMARY:Paneuropa
DESCRIPTION:Vortrag und Diskussion über die Paneuropaidee \nBude der KHV Babenberg\, Volksgartenstraße 5/2/5\, 1010 Wien \nBeginn 18.30 Uhr \nMit: Rainhard Kloucek\, Raphael Stangl\, Maximilian Schmid\, Richard Gansterer
URL:https://www.paneuropa.at/termin/paneuropa/
LOCATION:Wien
CATEGORIES:Paneuropa,Veranstaltung
END:VEVENT
BEGIN:VEVENT
DTSTART;TZID=Europe/Vienna:20231025T180000
DTEND;TZID=Europe/Vienna:20231025T200000
DTSTAMP:20260421T113259
CREATED:20231016T195345Z
LAST-MODIFIED:20231016T195433Z
UID:3177-1698256800-1698264000@www.paneuropa.at
SUMMARY:DER KRIEG IN DER UKRAINE – SCHUTZ UND ZERSTÖRUNG DES KULTURERBES
DESCRIPTION:Einladung zur Veranstaltung der Paneuropabewegung Österreich gemeinsam mit Blue Shield und Peacekeepers. \nMittwoch\, 25. Oktober 2023\, 18:00 bis 20:00 Uhr\nSteingasse 25\, 1030 Wien\nWir bitte um Anmeldung bis 23. Oktober 2023 unter office@paneuropa.at \n  \nMit Beiträgen von\nManfred Pinnegger\nKommandant des österreichischen Kontingents bei der EUAM Ukraine \nLeylya Strobl\nVorstandsmitglied von Blue Shield Austria \nAnna Puhr\nVorstandsmitglied von Blue Shield International
URL:https://www.paneuropa.at/termin/der-krieg-in-der-ukraine-schutz-und-zerstoerung-des-kulturerbes/
LOCATION:Paneuropa Büro\, Steingasse 25/7\, Wien\, Wien\, 1030\, Österreich
CATEGORIES:Paneuropa,Veranstaltung
ORGANIZER;CN="Paneuropabewegung %C3%96sterreich":MAILTO:oesterreich@paneuropa.at
END:VEVENT
END:VCALENDAR