BEGIN:VCALENDAR
VERSION:2.0
PRODID:-//Paneuropa - ECPv6.3.5//NONSGML v1.0//EN
CALSCALE:GREGORIAN
METHOD:PUBLISH
X-WR-CALNAME:Paneuropa
X-ORIGINAL-URL:https://www.paneuropa.at
X-WR-CALDESC:Veranstaltungen für Paneuropa
REFRESH-INTERVAL;VALUE=DURATION:PT1H
X-Robots-Tag:noindex
X-PUBLISHED-TTL:PT1H
BEGIN:VTIMEZONE
TZID:Europe/Vienna
BEGIN:DAYLIGHT
TZOFFSETFROM:+0100
TZOFFSETTO:+0200
TZNAME:CEST
DTSTART:20230326T010000
END:DAYLIGHT
BEGIN:STANDARD
TZOFFSETFROM:+0200
TZOFFSETTO:+0100
TZNAME:CET
DTSTART:20231029T010000
END:STANDARD
END:VTIMEZONE
BEGIN:VEVENT
DTSTART;TZID=Europe/Vienna:20230904T190000
DTEND;TZID=Europe/Vienna:20230904T203000
DTSTAMP:20260421T125533
CREATED:20230824T120044Z
LAST-MODIFIED:20230824T120044Z
UID:3143-1693854000-1693859400@www.paneuropa.at
SUMMARY:Wenn die Russen wieder weg sind
DESCRIPTION:Herzliche Einladung \n„Wenn die Russen wieder weg sind“ \nGespräch mit Anna Pattermann\, Gründerin und Vorsitzende von „Unlimited Democracy“ \nMontag\, 4. September 2023\, 19.00 Uhr\, Paneuropa-Büro\, Steingasse 25/7\, 1030 Wien \nIm Juli hat Anna Pattermann Cherson\, die Stadt und die Region besucht. Acht Monate lang war Cherson im Vorjahr von den russischen Invasionstruppen besetzt. In der Herbstoffensive des Vorjahres konnte die Stadt im Süden der Ukraine von der ukrainischen Armee befreit werden. Frontstadt ist Cherson aber nach wie vor. Putins Soldateska beschießt die Stadt jeden Tag\, zerstört Menschenleben und Kulturgüter. \nIn dem Gespräch mit Anna Pattermann wollen wir mit ihr die Eindrucke diskutieren\, die sie in der Stadt\, in Gesprächen mit Menschen etc. gemacht hat\, und die Lage in der Ukraine generell besprechen. \nDa der Platz im neuen Büro begrenzt ist\, bitte ich um rasche Anmeldung\, direkt an: rainhard.kloucek@paneuropa.at
URL:https://www.paneuropa.at/termin/wenn-die-russen-wieder-weg-sind/
LOCATION:Paneuropa Büro\, Steingasse 25/7\, Wien\, Wien\, 1030\, Österreich
CATEGORIES:Paneuropa,Veranstaltung
ORGANIZER;CN="Paneuropabewegung %C3%96sterreich":MAILTO:oesterreich@paneuropa.at
END:VEVENT
BEGIN:VEVENT
DTSTART;TZID=Europe/Vienna:20230906T163000
DTEND;TZID=Europe/Vienna:20230906T190000
DTSTAMP:20260421T125533
CREATED:20230830T140659Z
LAST-MODIFIED:20230830T140659Z
UID:3151-1694017800-1694026800@www.paneuropa.at
SUMMARY:Der historische Auftrag der Ukraine für Europa
DESCRIPTION:Das Salzburger Paneuropaforum erlaubt sich\, den nächsten Termin bekanntzugeben. Alle Veranstaltungen finden wie gewohnt in der STIEGL-BRAUWELT\, Bräuhausstr. 9\, Salzburg-Maxglan\, statt. Die Vorrunde – Gespräche\, Essen und Trinken – beginnt jeweils um 16:30 Uhr; und der Hauptteil mit Vortrag liegt im Zeitrahmen 17:00 – 18:00 Uhr\, um den Teilnehmern noch die Wahrnehmung von Abendterminen zu ermöglichen. Wir bitten Teilnehmer und Freunde\, die von ihnen konsumierten Speisen und Getränke\, von der STIEGL-BRAUWELT in exzellenter Qualität angeboten\, selbst zu bezahlen. \nAm Mittwoch\, 6. September\, spricht der junge Innsbrucker Paneuropäer Ing. Josef Putz vor dem Salzburger Paneuropaforum über „Die aktuelle Lage in der Ukraine – Reisebericht August 2023 – Der historische Auftrag der Ukraine für Europa“.
URL:https://www.paneuropa.at/termin/der-historische-auftrag-der-ukraine-fuer-europa/
LOCATION:Stiegl-Brauwelt\, Bräuhausstraße 9\, Salzburg-Maxglan
CATEGORIES:Paneuropa,Veranstaltung
ORGANIZER;CN="Paneuropabewegung %C3%96sterreich":MAILTO:oesterreich@paneuropa.at
END:VEVENT
END:VCALENDAR