BEGIN:VCALENDAR
VERSION:2.0
PRODID:-//Paneuropa - ECPv6.3.5//NONSGML v1.0//EN
CALSCALE:GREGORIAN
METHOD:PUBLISH
X-ORIGINAL-URL:https://www.paneuropa.at
X-WR-CALDESC:Veranstaltungen für Paneuropa
REFRESH-INTERVAL;VALUE=DURATION:PT1H
X-Robots-Tag:noindex
X-PUBLISHED-TTL:PT1H
BEGIN:VTIMEZONE
TZID:Europe/Vienna
BEGIN:DAYLIGHT
TZOFFSETFROM:+0100
TZOFFSETTO:+0200
TZNAME:CEST
DTSTART:20210328T010000
END:DAYLIGHT
BEGIN:STANDARD
TZOFFSETFROM:+0200
TZOFFSETTO:+0100
TZNAME:CET
DTSTART:20211031T010000
END:STANDARD
END:VTIMEZONE
BEGIN:VEVENT
DTSTART;TZID=Europe/Vienna:20210819T120000
DTEND;TZID=Europe/Vienna:20210819T140000
DTSTAMP:20260423T050214
CREATED:20210809T132708Z
LAST-MODIFIED:20210809T133148Z
UID:2636-1629374400-1629381600@www.paneuropa.at
SUMMARY:PANEUROPA-WEIN-PICKNICK
DESCRIPTION:EINLADUNG PANEUROPA-WEIN-PICKNICK \nam Donnerstag\, den 19. August 2021 um 12.00 Uhr\, \nwelches wir gemeinsam an der Grenze zwischen St. Margarethen und Fertőrákos – (Zufahrt von St. Margarethen bzw. Fertőrákos)\, den historischen Ort wo 1989 – beim PANEUROPÄISCHEN-PICKNICK der Eiserne Vorhang geöffnet und der östliche Teil Europas mit der Freiheit verbunden wurde\, feiern. \nDer edle Wein stiftet Freundschaft\, Frieden und Freude\, verbindet die Menschen und Völker auf einer noblen Ebene – er ist wahrlich würdig besungen zu werden! \nKarl von Habsburg\, Präsident Paneuropabewegung Österreich / Ordensprotektor OEVE \nAlfred R. de Tombor Tintera\, Magister Generalis OEVE \nHon. Generalkonsul KR Alfred Chyba\, Präsident UCCA \nEques Ing. Rudolf Strommer\, Europaforum Burgenland \nRainhard Kloucek\, Generalsekretär Paneuropabewegung Österreich \nConsul tit. Prof. Josef Jenei\, Ambassadeur Europaamt \nProconsul István Tagai\, Consulat Ungarn \nConsul tit. Ing. Josef Derhaschnig\, Consulat Burgenland \n  \nFESTPROGRAMM – 19. August 2021 \nI. Festakt beim Europatisch am Europaplatz vor dem Landhaus\, Eisenstadt \n9:00 Uhr         Treffpunkt beim Café Central\, Eisenstadt\, Hauptstraße 40 \nWillkommenstrunk \nGemeinsamer Gang zum Landhaus\, Europaplatz \n10:00 Uhr       Aufstellung um den Europatisch \nBegrüßung \nGrußadressen der öffentlichen Mandatare \nRede des 2. Botschafters von Slowenien \nMemorandum zu Europa \nKelchreichung im Geiste paneuropäischer Tugenden von: \nFreiheit + Freundschaft + Friede + Freude \nAnschließend Transfer an die Grenze St. Margarethen/Fertőrákos \nII. Festakt an der Grenze St. Margarethen/Fertőrákos \n12.00 Uhr       Fanfare \nBegrüßung Proconsul Burgenland \nProconsul Ungarn / Legat von Sopron \nGrußadressen \nFanfare \nRede: Obmann Europaforum Burgenland \nRede: Generalsekretär Paneuropa Österreich \nRede: Präsident der Union Corps Consulaire Autriche \nRede: Botschafter EU-Vorsitzland Slowenien \nFanfare \nEinbegleitung durch den Magister Generalis OEVE zur Europarede von Consul Hofrat Helmut Skala \nRede: Magister Generalis des Ordo Equestris Vini Europae auch für den Corps Consulaire Burgenland \nHymnen\, Ordensgebet und Agape\, Verkostung edler Weine \nDiese Veranstaltung wird jährlich am historischen Ort von folgenden Trägern veranstaltet: Ordo Equestris Vini Europae (Consulat Bgld. + Consulat H)\, Union Corps Consulaire Autriche\, Paneuropa-Bewegung Österreich\, Europaforum Burgenland\, Corps Consulaire Burgenland
URL:https://www.paneuropa.at/termin/paneuropa-wein-picknick-2/
CATEGORIES:Paneuropa,Veranstaltung
END:VEVENT
END:VCALENDAR