BEGIN:VCALENDAR
VERSION:2.0
PRODID:-//Paneuropa - ECPv6.3.5//NONSGML v1.0//EN
CALSCALE:GREGORIAN
METHOD:PUBLISH
X-WR-CALNAME:Paneuropa
X-ORIGINAL-URL:https://www.paneuropa.at
X-WR-CALDESC:Veranstaltungen für Paneuropa
REFRESH-INTERVAL;VALUE=DURATION:PT1H
X-Robots-Tag:noindex
X-PUBLISHED-TTL:PT1H
BEGIN:VTIMEZONE
TZID:Europe/Vienna
BEGIN:DAYLIGHT
TZOFFSETFROM:+0100
TZOFFSETTO:+0200
TZNAME:CEST
DTSTART:20210328T010000
END:DAYLIGHT
BEGIN:STANDARD
TZOFFSETFROM:+0200
TZOFFSETTO:+0100
TZNAME:CET
DTSTART:20211031T010000
END:STANDARD
END:VTIMEZONE
BEGIN:VEVENT
DTSTART;TZID=Europe/Vienna:20210310T180000
DTEND;TZID=Europe/Vienna:20210310T193000
DTSTAMP:20260423T133640
CREATED:20210218T174341Z
LAST-MODIFIED:20210308T210510Z
UID:2483-1615399200-1615404600@www.paneuropa.at
SUMMARY:Eurozone am Scheideweg: Folgt der Schuldenkrise die politische Krise?
DESCRIPTION:In einer Veranstaltungsreihe diskutiert die Paneuropabewegung Österreich Schwerpunkte aus der „Rede zur Zukunft Europas“  von Karl von Habsburg. In einer ersten Veranstaltung am 6. Februar stand das Thema „Rechtsstaat und Freiheit: Was macht Europa aus?“ im Mittelpunkt. Ein Mitschnitt der Veranstaltung kann hier nachgesehen werden. \nIn der Veranstaltung am 10. März wird die Verschuldung der Eurozone thematisiert und ein Vorschlag zur Entschuldung diskutiert. Dazu konnten wir folgende Experten gewinnen:\nNorbert F. Tofall\, Flossbach von Storch Research Institut\nheike lehner\, Agenda Austria\nmonika köppl-Turyna\, eco austria\nModeration: Rainhard Kloucek\, Generalsekretär Paneuropabewegung Österreich\nDie Veranstaltung wird online über zoom stattfinden. Hier geht es zur Anmeldung!
URL:https://www.paneuropa.at/termin/eurozone-am-scheideweg-folgt-der-schuldenkrise-die-politische-krise/
LOCATION:Online via Zoom
CATEGORIES:Paneuropa,Veranstaltung
ORGANIZER;CN="Paneuropabewegung %C3%96sterreich":MAILTO:oesterreich@paneuropa.at
END:VEVENT
BEGIN:VEVENT
DTSTART;TZID=Europe/Vienna:20210330T180000
DTEND;TZID=Europe/Vienna:20210330T193000
DTSTAMP:20260423T133640
CREATED:20210323T065816Z
LAST-MODIFIED:20210330T132504Z
UID:2528-1617127200-1617132600@www.paneuropa.at
SUMMARY:Blick nach Europa: Wahlen in Bulgarien und eine neue Regierung in Italien
DESCRIPTION:Dienstag\, 30. März\, 18.00h – 19.30h via Zoom \nHier geht es zur Anmeldung! \nWas tut sich in den anderen EU-Staaten? Bulgarien wählt am 4. April\, zudem hat in Italien mit Mario Draghi der ehemalige EZB-Präsident das Amt des Premierministers übernommen. Welche Folgen hat das für die jeweiligen Länder und die EU? Werden die beiden Länder nachher stabiler? \nDiese Fragen besprechen wir mit: \nPolina Vekova\, Executive Assistant an der Politischen Akademie der ÖVP\, geboren und aufgewachsen in Sofia\, Mitglied der Paneuropajugend Österreich \nLuca Marconcini\, Agrarökonom (Universität für Bodenkultur)\, Mitglied des Vorstands der Paneuropajugend Österreich \nModeration: Philipp Jauernik\, Bundesvorsitzender Paneuropajugend Österreich
URL:https://www.paneuropa.at/termin/blick-nach-europa-wahlen-in-bulgarien-und-eine-neue-regierung-in-italien/
CATEGORIES:Paneuropa,Veranstaltung
ORGANIZER;CN="Paneuropabewegung %C3%96sterreich":MAILTO:oesterreich@paneuropa.at
END:VEVENT
END:VCALENDAR