BEGIN:VCALENDAR
VERSION:2.0
PRODID:-//Paneuropa - ECPv6.3.5//NONSGML v1.0//EN
CALSCALE:GREGORIAN
METHOD:PUBLISH
X-WR-CALNAME:Paneuropa
X-ORIGINAL-URL:https://www.paneuropa.at
X-WR-CALDESC:Veranstaltungen für Paneuropa
REFRESH-INTERVAL;VALUE=DURATION:PT1H
X-Robots-Tag:noindex
X-PUBLISHED-TTL:PT1H
BEGIN:VTIMEZONE
TZID:Europe/Vienna
BEGIN:DAYLIGHT
TZOFFSETFROM:+0100
TZOFFSETTO:+0200
TZNAME:CEST
DTSTART:20190331T010000
END:DAYLIGHT
BEGIN:STANDARD
TZOFFSETFROM:+0200
TZOFFSETTO:+0100
TZNAME:CET
DTSTART:20191027T010000
END:STANDARD
END:VTIMEZONE
BEGIN:VEVENT
DTSTART;TZID=Europe/Vienna:20191116T100000
DTEND;TZID=Europe/Vienna:20191116T170000
DTSTAMP:20260424T123114
CREATED:20190926T162519Z
LAST-MODIFIED:20191017T172027Z
UID:1930-1573898400-1573923600@www.paneuropa.at
SUMMARY:Richard Coudenhove-Kalergi Symposion
DESCRIPTION:Am 16. November europäischer bzw. am 17. November japanischer Zeitrechnung jährt sich der Geburtstag des Paneuropa-Gründers Richard Coudenhove-Kalergi zum 125. Mal. Zu diesem Anlass wird die Paneuropabewegung Österreich am Samstag\, 16. November 2019\, ein Richard Coudenhove-Kalergi Symposion in Wien durchführen. \nEinladung zum Symposion 125. Geburtstag Richard Coudenhove-Kalergi \nIn Zusammenarbeit mit der Europagesellschaft Coudenhove-Kalergi \nMit freundlicher Unterstützung der „Stiftung Zusammenleben“ \nSamstag\, 16. November 2019 \nClub Stephansplatz 4\, 1010 Wien \nProgramm (kleine Änderungen im Programm sind noch möglich) \n10.00 Registrierung \n10.30 Begrüßung \n10.45 ao.Univ.Prof. Mag. Dr. Anita Ziegerhofer \nInstitut für Rechtswissenschaftliche Grundlagen\, Fachbereich Rechtsgeschichte und Europäische Rechtsentwicklung\, Universität Graz: „Richard Coudenhove-Kalergi: Der Visionär Europas“ \n11.45 Kaffepause \n12.00 Dipl.-Theol. Stephan Baier: „Richard Coudenhove-Kalergi und Otto von Habsburg: Parallelen im politischen Denken und Wirken“ \n13.00 Mittagsbuffet \n14.00 Univ.-Prof. Dr. Pavo Barisic\, Generalsekretär der Paneuropa-Union\, ehemaliger Minister für Wissenschaft und Bildung in Kroatien: „Richard Coudenhove-Kalergi und die europäische Bildungspolitik“ \n15.00 Richard Coudenhove-Kalergi und die Bedeutung seiner Paneuropa-Idee heute \nEs diskutieren: \nUniv.-Prof. Dr. Anita Ziegerhofer \nProf. Dr. Pavo Barisic \nDipl.-Theol. Stephan Baier \nRainhard Kloucek\, Generalsekretär Paneuropabewegung Österreich \nModeration: Philipp Jauernik\, Vorsitzender Paneuropajugend Österreich \n16.30 Ende der Veranstaltung \nFür Mitglieder der Paneuropabewegung Österreich\, die ihren Mitgliedsbeitrag bezahlt haben\, ist die Tagung frei zugänglich. Für Gäste dürfen wir einen Tagungsbeitrag von 15 Euro einheben. \nAnmeldungen bitte bis 11. November 2019 an: oesterreich@paneuropa.at
URL:https://www.paneuropa.at/termin/richard-coudenhove-kalergi-symposion/
CATEGORIES:Paneuropa
ORGANIZER;CN="Paneuropabewegung %C3%96sterreich":MAILTO:oesterreich@paneuropa.at
END:VEVENT
END:VCALENDAR