BEGIN:VCALENDAR
VERSION:2.0
PRODID:-//Paneuropa - ECPv6.3.5//NONSGML v1.0//EN
CALSCALE:GREGORIAN
METHOD:PUBLISH
X-ORIGINAL-URL:https://www.paneuropa.at
X-WR-CALDESC:Veranstaltungen für Paneuropa
REFRESH-INTERVAL;VALUE=DURATION:PT1H
X-Robots-Tag:noindex
X-PUBLISHED-TTL:PT1H
BEGIN:VTIMEZONE
TZID:Europe/Vienna
BEGIN:DAYLIGHT
TZOFFSETFROM:+0100
TZOFFSETTO:+0200
TZNAME:CEST
DTSTART:20190331T010000
END:DAYLIGHT
BEGIN:STANDARD
TZOFFSETFROM:+0200
TZOFFSETTO:+0100
TZNAME:CET
DTSTART:20191027T010000
END:STANDARD
END:VTIMEZONE
BEGIN:VEVENT
DTSTART;TZID=Europe/Vienna:20190322T183000
DTEND;TZID=Europe/Vienna:20190322T203000
DTSTAMP:20260425T001828
CREATED:20190315T180839Z
LAST-MODIFIED:20190315T180840Z
UID:1746-1553279400-1553286600@www.paneuropa.at
SUMMARY:Für ein starkes Europa
DESCRIPTION:Für ein starkes Europa\nFreitag\, 22. März 2019\, 18.30 Uhr\, Festsaal im Rathaus Korneuburg\, Hauptplatz 39\, 2100 Korneuburg\nEs sprechen: Christian Gepp\, Bürgermeister Korneuburg\nLukas Mandl\, MEP\nKarl von Habsburg\, Präsident der Paneuropabewegung Österreich\nwir bitten um Anmeldung bis 19. März: oesterreich@paneuropa.at\n 
URL:https://www.paneuropa.at/termin/fuer-ein-starkes-europa/
LOCATION:Rathaus Korneuburg\, Hauptplatz 39\, Korneuburg\, Niederösterreich\, 2100\, Österreich
CATEGORIES:Paneuropa,Veranstaltung
ORGANIZER;CN="Paneuropabewegung %C3%96sterreich":MAILTO:oesterreich@paneuropa.at
END:VEVENT
END:VCALENDAR