BEGIN:VCALENDAR
VERSION:2.0
PRODID:-//Paneuropa - ECPv6.3.5//NONSGML v1.0//EN
CALSCALE:GREGORIAN
METHOD:PUBLISH
X-WR-CALNAME:Paneuropa
X-ORIGINAL-URL:https://www.paneuropa.at
X-WR-CALDESC:Veranstaltungen für Paneuropa
REFRESH-INTERVAL;VALUE=DURATION:PT1H
X-Robots-Tag:noindex
X-PUBLISHED-TTL:PT1H
BEGIN:VTIMEZONE
TZID:Europe/Vienna
BEGIN:DAYLIGHT
TZOFFSETFROM:+0100
TZOFFSETTO:+0200
TZNAME:CEST
DTSTART:20260329T010000
END:DAYLIGHT
BEGIN:STANDARD
TZOFFSETFROM:+0200
TZOFFSETTO:+0100
TZNAME:CET
DTSTART:20261025T010000
END:STANDARD
END:VTIMEZONE
BEGIN:VEVENT
DTSTART;TZID=Europe/Vienna:20260312T183000
DTEND;TZID=Europe/Vienna:20260312T210000
DTSTAMP:20260419T161801
CREATED:20260302T114559Z
LAST-MODIFIED:20260302T114911Z
UID:3811-1773340200-1773349200@www.paneuropa.at
SUMMARY:Paneuropa Lesekreis
DESCRIPTION:Am 12. März wird um 18.30 ein Paneuroäischer Lesekreis stattfinden. \nBei Getränken und Brötchen werden dabei für Paneuropa essentielle politische Schriften besprochen und diskutiert. In der aktuellen Einheit beschäftigen wir  uns mit den Kapiteln 10-11 aus Richard Coudenhove-Kalergis Buch „Paneuropa“. Eine vorherige Lektüre des behandelten Textes wird dringend empfohlen. \nWo? – Paneuropa Büro\, Steingasse 25/7 \nWann? – 12. März\, um 18:30 \nPan-Europa – Coudenhove Kalergi_Kap10-11
URL:https://www.paneuropa.at/termin/paneuropa-lesekreis-5/
LOCATION:Paneuropa Büro\, Steingasse 25/7\, Wien\, Wien\, 1030\, Österreich
CATEGORIES:Paneuropa,Veranstaltung
ORGANIZER;CN="Paneuropabewegung %C3%96sterreich":MAILTO:oesterreich@paneuropa.at
END:VEVENT
END:VCALENDAR