BEGIN:VCALENDAR
VERSION:2.0
PRODID:-//Paneuropa - ECPv6.3.5//NONSGML v1.0//EN
CALSCALE:GREGORIAN
METHOD:PUBLISH
X-ORIGINAL-URL:https://www.paneuropa.at
X-WR-CALDESC:Veranstaltungen für Paneuropa
REFRESH-INTERVAL;VALUE=DURATION:PT1H
X-Robots-Tag:noindex
X-PUBLISHED-TTL:PT1H
BEGIN:VTIMEZONE
TZID:Europe/Vienna
BEGIN:DAYLIGHT
TZOFFSETFROM:+0100
TZOFFSETTO:+0200
TZNAME:CEST
DTSTART:20260329T010000
END:DAYLIGHT
BEGIN:STANDARD
TZOFFSETFROM:+0200
TZOFFSETTO:+0100
TZNAME:CET
DTSTART:20261025T010000
END:STANDARD
END:VTIMEZONE
BEGIN:VEVENT
DTSTART;TZID=Europe/Vienna:20260226T160000
DTEND;TZID=Europe/Vienna:20260226T170000
DTSTAMP:20260419T162928
CREATED:20260205T123642Z
LAST-MODIFIED:20260205T123642Z
UID:3786-1772121600-1772125200@www.paneuropa.at
SUMMARY:Mahnwache: Russland raus aus der Ukraine
DESCRIPTION:Wöchentliche Mahnwache:\nRUSSLAND RAUS AUS DER UKRAINE\nOrt: Platz der Menschenrechte (Beginn der Mariahilferstraße)\, Wien \nJeden Donnerstag 16:00 Uhr – 17:00 Uhr 
URL:https://www.paneuropa.at/termin/mahnwache-russland-raus-aus-der-ukraine-5/
LOCATION:Platz der Menschenrechte\, Untere Mariahilferstraße\, Wien\, Wien\, 1060
CATEGORIES:Paneuropa,Veranstaltung
END:VEVENT
BEGIN:VEVENT
DTSTART;TZID=Europe/Vienna:20260226T183000
DTEND;TZID=Europe/Vienna:20260226T183000
DTSTAMP:20260419T162928
CREATED:20260211T173733Z
LAST-MODIFIED:20260211T173733Z
UID:3788-1772130600-1772130600@www.paneuropa.at
SUMMARY:Ihor Zhaloba aber den Drohnenkrieg
DESCRIPTION:„Drohnen als militärische und technologische Herausforderung für Europa:\nLehren aus dem Drohnenkrieg in der Ukraine“\nDonnerstag 26. Februar 2026\, 18:30\, Steingasse 25\, 1030 Wien\, Veranstaltungssaal \nDer seit vier Jahren tobende Vernichtungskrieg des Moskauer Kolonialreiches gegen die Ukraine\, der seinen Anfang bereits 2014 mit der Annexion der Krim und dem russischen Einmarsch im Donbas genommen hat\, zeigt wie sich das Schlachtfeld drastisch geändert hat. Verschiedene Arten von Drohnen sind eine dominante Waffe\, ihre Reichweite definiert eine Todeszone\, die sich beiderseits der direkten Kontaktlinie über viele Kilometer in beide Richtungen erstreckt. \nDer aus Czernowitz stammende Historiker und Universitätsprofessor Ihor Zhaloba hat sich nur wenige Tage nach seinem 58. Geburtstag im Februar 2022 freiwillig zur Armee der Ukraine gemeldet. Zwei Jahre lang hat er gedient\, unter anderem in einer der neu geschaffenen Drohneneinheiten. Mit den Kameraden in seiner Einheit ist er nach wie vor in Kontakt\, kann also mit seinem Vortrag einen aktuellen Überblick über die Lage geben.\nIhor Zhaloba arbeitet derzeit an der Akademie der Wissenschaften der Ukraine\, er ist Ko-Vorsitzender der bilateralen Historikerkommission Ukraine-Österreich\, Präsident der Paneuropa-Union Ukraine und Mitglied im Präsidium der Paneuropa-Union.\nAnmeldungen zu der Veranstaltung sind unbedingt erforderlich: office@paneuropa.at
URL:https://www.paneuropa.at/termin/ihor-zhaloba-aber-den-drohnenkrieg/
LOCATION:Paneuropa Büro\, Steingasse 25/7\, Wien\, Wien\, 1030\, Österreich
CATEGORIES:Paneuropa,Veranstaltung
ORGANIZER;CN="Paneuropabewegung %C3%96sterreich":MAILTO:oesterreich@paneuropa.at
END:VEVENT
END:VCALENDAR