BEGIN:VCALENDAR
VERSION:2.0
PRODID:-//Paneuropa - ECPv6.3.5//NONSGML v1.0//EN
CALSCALE:GREGORIAN
METHOD:PUBLISH
X-WR-CALNAME:Paneuropa
X-ORIGINAL-URL:https://www.paneuropa.at
X-WR-CALDESC:Veranstaltungen für Paneuropa
REFRESH-INTERVAL;VALUE=DURATION:PT1H
X-Robots-Tag:noindex
X-PUBLISHED-TTL:PT1H
BEGIN:VTIMEZONE
TZID:Europe/Vienna
BEGIN:DAYLIGHT
TZOFFSETFROM:+0100
TZOFFSETTO:+0200
TZNAME:CEST
DTSTART:20260329T010000
END:DAYLIGHT
BEGIN:STANDARD
TZOFFSETFROM:+0200
TZOFFSETTO:+0100
TZNAME:CET
DTSTART:20261025T010000
END:STANDARD
END:VTIMEZONE
BEGIN:VEVENT
DTSTART;TZID=Europe/Vienna:20260219T160000
DTEND;TZID=Europe/Vienna:20260219T170000
DTSTAMP:20260419T174518
CREATED:20260205T123557Z
LAST-MODIFIED:20260205T123557Z
UID:3784-1771516800-1771520400@www.paneuropa.at
SUMMARY:Mahnwache: Russland raus aus der Ukraine
DESCRIPTION:Wöchentliche Mahnwache:\nRUSSLAND RAUS AUS DER UKRAINE\nOrt: Platz der Menschenrechte (Beginn der Mariahilferstraße)\, Wien \nJeden Donnerstag 16:00 Uhr – 17:00 Uhr 
URL:https://www.paneuropa.at/termin/mahnwache-russland-raus-aus-der-ukraine-4/
LOCATION:Platz der Menschenrechte\, Untere Mariahilferstraße\, Wien\, Wien\, 1060
CATEGORIES:Paneuropa,Veranstaltung
END:VEVENT
END:VCALENDAR