BEGIN:VCALENDAR
VERSION:2.0
PRODID:-//Paneuropa - ECPv6.3.5//NONSGML v1.0//EN
CALSCALE:GREGORIAN
METHOD:PUBLISH
X-ORIGINAL-URL:https://www.paneuropa.at
X-WR-CALDESC:Veranstaltungen für Paneuropa
REFRESH-INTERVAL;VALUE=DURATION:PT1H
X-Robots-Tag:noindex
X-PUBLISHED-TTL:PT1H
BEGIN:VTIMEZONE
TZID:Europe/Vienna
BEGIN:DAYLIGHT
TZOFFSETFROM:+0100
TZOFFSETTO:+0200
TZNAME:CEST
DTSTART:20260329T010000
END:DAYLIGHT
BEGIN:STANDARD
TZOFFSETFROM:+0200
TZOFFSETTO:+0100
TZNAME:CET
DTSTART:20261025T010000
END:STANDARD
END:VTIMEZONE
BEGIN:VEVENT
DTSTART;TZID=Europe/Vienna:20260111T120000
DTEND;TZID=Europe/Vienna:20260111T133000
DTSTAMP:20260419T190130
CREATED:20251215T153336Z
LAST-MODIFIED:20260108T110202Z
UID:3698-1768132800-1768138200@www.paneuropa.at
SUMMARY:Rede zur Zukunft Europas
DESCRIPTION:Karl von Habsburg hält am 11. Jänner 2026 um 12:00 (pünktlich) seine Rede zur Zukunft Europas. Die Veranstaltung wird online stattfinden. Eine kostenlose Registrierung ist erforderlich: \nhttps://www.eventbrite.at/e/rede-zur-zukunft-europas-2026-und-65-geburtstag-von-karl-von-habsburg-tickets-1972581636776? \nAls Gastredner nehmen teil: \nBeate Meinl-Reisinger\, Außenministerin der Republik Österreich \nJan Peter Balkenende\, Königlicher Staatsminister Niederlande
URL:https://www.paneuropa.at/termin/rede-zur-zukunft-europas-3/
LOCATION:Wien
CATEGORIES:Paneuropa,Veranstaltung
ORGANIZER;CN="Paneuropabewegung %C3%96sterreich":MAILTO:oesterreich@paneuropa.at
END:VEVENT
END:VCALENDAR