BEGIN:VCALENDAR
VERSION:2.0
PRODID:-//Paneuropa - ECPv6.3.5//NONSGML v1.0//EN
CALSCALE:GREGORIAN
METHOD:PUBLISH
X-ORIGINAL-URL:https://www.paneuropa.at
X-WR-CALDESC:Veranstaltungen für Paneuropa
REFRESH-INTERVAL;VALUE=DURATION:PT1H
X-Robots-Tag:noindex
X-PUBLISHED-TTL:PT1H
BEGIN:VTIMEZONE
TZID:Europe/Vienna
BEGIN:DAYLIGHT
TZOFFSETFROM:+0100
TZOFFSETTO:+0200
TZNAME:CEST
DTSTART:20250330T010000
END:DAYLIGHT
BEGIN:STANDARD
TZOFFSETFROM:+0200
TZOFFSETTO:+0100
TZNAME:CET
DTSTART:20251026T010000
END:STANDARD
END:VTIMEZONE
BEGIN:VEVENT
DTSTART;TZID=Europe/Vienna:20251215T183000
DTEND;TZID=Europe/Vienna:20251215T203000
DTSTAMP:20260419T204139
CREATED:20251124T085840Z
LAST-MODIFIED:20251212T183546Z
UID:3673-1765823400-1765830600@www.paneuropa.at
SUMMARY:Paneuropa Lesekreis
DESCRIPTION:am 15. Dezember wird um 18.30 ein Paneuroäischer Lesekreis stattfinden.\nBei einem Glas Wein werden dabei für Paneuropa essentielle politische Schriften besprochen und diskutiert.\nWo? Paneuropa Zentrum\, Steingasse 25/7\, 1030 Wien\nWann? – 15. dezember\, um 18:30\nPan-Europa – Coudenhove Kalergi_Kap1-2
URL:https://www.paneuropa.at/termin/paneuropa-lesekreis-4/
LOCATION:Paneuropa Büro\, Steingasse 25/7\, Wien\, Wien\, 1030\, Österreich
CATEGORIES:Paneuropa,Veranstaltung
ORGANIZER;CN="Paneuropabewegung %C3%96sterreich":MAILTO:oesterreich@paneuropa.at
END:VEVENT
END:VCALENDAR