BEGIN:VCALENDAR
VERSION:2.0
PRODID:-//Paneuropa - ECPv6.3.5//NONSGML v1.0//EN
CALSCALE:GREGORIAN
METHOD:PUBLISH
X-WR-CALNAME:Paneuropa
X-ORIGINAL-URL:https://www.paneuropa.at
X-WR-CALDESC:Veranstaltungen für Paneuropa
REFRESH-INTERVAL;VALUE=DURATION:PT1H
X-Robots-Tag:noindex
X-PUBLISHED-TTL:PT1H
BEGIN:VTIMEZONE
TZID:Europe/Vienna
BEGIN:DAYLIGHT
TZOFFSETFROM:+0100
TZOFFSETTO:+0200
TZNAME:CEST
DTSTART:20250330T010000
END:DAYLIGHT
BEGIN:STANDARD
TZOFFSETFROM:+0200
TZOFFSETTO:+0100
TZNAME:CET
DTSTART:20251026T010000
END:STANDARD
END:VTIMEZONE
BEGIN:VEVENT
DTSTART;TZID=Europe/Vienna:20251128T183000
DTEND;TZID=Europe/Vienna:20251128T203000
DTSTAMP:20260419T221232
CREATED:20251124T085650Z
LAST-MODIFIED:20251128T122403Z
UID:3670-1764354600-1764361800@www.paneuropa.at
SUMMARY:Paneuropa Lesekreis 28.11. verschoben auf 15.12.
DESCRIPTION:am 28. November wird um 18.30 ein Paneuroäischer Lesekreis stattfinden.\nBei einem Glas Wein werden dabei für Paneuropa essentielle politische Schriften besprochen und diskutiert. Im Anschluss wird es ein get together und die Möglichkeit auf ein Abendessen geben.\nWo? – Clubräumlichkeiten des Rumclub Wien (Sobieskiplatz 8\, A-1090 Wien) Zugang über die Greißlerei Walletschek\nWann? – 28. November\, um 18:30\nPan-Europa – Coudenhove Kalergi_Kap1-2
URL:https://www.paneuropa.at/termin/paneuropa-lesekreis-3/
LOCATION:Wien
CATEGORIES:Paneuropa,Veranstaltung
ORGANIZER;CN="Paneuropabewegung %C3%96sterreich":MAILTO:oesterreich@paneuropa.at
END:VEVENT
END:VCALENDAR