BEGIN:VCALENDAR
VERSION:2.0
PRODID:-//Paneuropa - ECPv6.3.5//NONSGML v1.0//EN
CALSCALE:GREGORIAN
METHOD:PUBLISH
X-ORIGINAL-URL:https://www.paneuropa.at
X-WR-CALDESC:Veranstaltungen für Paneuropa
REFRESH-INTERVAL;VALUE=DURATION:PT1H
X-Robots-Tag:noindex
X-PUBLISHED-TTL:PT1H
BEGIN:VTIMEZONE
TZID:Europe/Vienna
BEGIN:DAYLIGHT
TZOFFSETFROM:+0100
TZOFFSETTO:+0200
TZNAME:CEST
DTSTART:20250330T010000
END:DAYLIGHT
BEGIN:STANDARD
TZOFFSETFROM:+0200
TZOFFSETTO:+0100
TZNAME:CET
DTSTART:20251026T010000
END:STANDARD
END:VTIMEZONE
BEGIN:VEVENT
DTSTART;TZID=Europe/Vienna:20251125T183000
DTEND;TZID=Europe/Vienna:20251125T210000
DTSTAMP:20260419T220552
CREATED:20251008T140009Z
LAST-MODIFIED:20251113T153201Z
UID:3623-1764095400-1764104400@www.paneuropa.at
SUMMARY:Der König der Ukraine
DESCRIPTION:„Der König der Ukraine“\nWilhelm von Habsburg oder Wasyl Vyshyvany – ein Leben für die Freiheit und die Ukraine\nEin Gespräch mit: Karl von Habsburg\nund Oleksandra Saienko\, Initiatorin der modernen Oper und des Projektes „Vyshyvanyi. Der König der Ukraine“.\nDienstag 25. November 2025\, 18:30 Uhr\, Steingasse 25\, 1030 Wien\, Veranstaltungssaal im Haus der Heimat.\nAnmeldungen bitte an: office@paneuropa.at\n(bis 24. November 2025\, 12:00 Uhr)\nEine Veranstaltung im Rahmen der Reihe: Die Ostgrenze europas und das künftige Verhältnis zu Russland
URL:https://www.paneuropa.at/termin/der-koenig-der-ukraine/
LOCATION:Paneuropa Büro\, Steingasse 25/7\, Wien\, Wien\, 1030\, Österreich
CATEGORIES:Paneuropa,Veranstaltung
ORGANIZER;CN="Paneuropabewegung %C3%96sterreich":MAILTO:oesterreich@paneuropa.at
END:VEVENT
END:VCALENDAR