BEGIN:VCALENDAR
VERSION:2.0
PRODID:-//Paneuropa - ECPv6.3.5//NONSGML v1.0//EN
CALSCALE:GREGORIAN
METHOD:PUBLISH
X-WR-CALNAME:Paneuropa
X-ORIGINAL-URL:https://www.paneuropa.at
X-WR-CALDESC:Veranstaltungen für Paneuropa
REFRESH-INTERVAL;VALUE=DURATION:PT1H
X-Robots-Tag:noindex
X-PUBLISHED-TTL:PT1H
BEGIN:VTIMEZONE
TZID:Europe/Vienna
BEGIN:DAYLIGHT
TZOFFSETFROM:+0100
TZOFFSETTO:+0200
TZNAME:CEST
DTSTART:20250330T010000
END:DAYLIGHT
BEGIN:STANDARD
TZOFFSETFROM:+0200
TZOFFSETTO:+0100
TZNAME:CET
DTSTART:20251026T010000
END:STANDARD
END:VTIMEZONE
BEGIN:VEVENT
DTSTART;TZID=Europe/Vienna:20251028T183000
DTEND;TZID=Europe/Vienna:20251028T210000
DTSTAMP:20260419T220108
CREATED:20251008T065307Z
LAST-MODIFIED:20251016T114330Z
UID:3621-1761676200-1761685200@www.paneuropa.at
SUMMARY:Die Ostgrenze Europas und das künftige Verhältnis zu Russland
DESCRIPTION:Wie weit geht Europa? Welche Länder sollten in die Europäische Union integriert werden? Wie wird das künftige Verhältnis zu Russland aussehen? Wird die Russische Föderation ihr Kolonialreich verlieren?\nDiese und andere Fragen besprechen wir mit Ihor Zhaloba\, Historiker an der Akademie der Wissenschaften in der Ukraine\, Co-Vorsitzender der bilateralen Historikerkommission Österreich – Ukraine\, Präsident der Paneuropa-Union Ukraine\,\nsowie mit Andreas Minnich\, Abgeordneter zum Österreichischen Nationalrat\, aussenpolitischer Sprecher der ÖVP\nDienstag 28. Oktober 2025 um 18:30 im Veranstaltungssaal im Haus der Heimat\, wo auch das Paneuropa-Büro seine Unterkunft hat: Steingasse 25\, 1030 Wien\nAnmeldungen bitte an: office@paneuropa.at\n(bis 27. Oktober 2025\, 12:00 Uhr)
URL:https://www.paneuropa.at/termin/die-ostgrenze-europas-und-das-kuenftige-verhaeltnis-zu-russland/
LOCATION:Paneuropa Büro\, Steingasse 25/7\, Wien\, Wien\, 1030\, Österreich
CATEGORIES:Paneuropa,Veranstaltung
ATTACH;FMTTYPE=image/jpeg:https://www.paneuropa.at/wp-content/uploads/2025/10/Share-pic-28.10.2025.jpeg
ORGANIZER;CN="Paneuropabewegung %C3%96sterreich":MAILTO:oesterreich@paneuropa.at
END:VEVENT
END:VCALENDAR