BEGIN:VCALENDAR
VERSION:2.0
PRODID:-//Paneuropa - ECPv6.3.5//NONSGML v1.0//EN
CALSCALE:GREGORIAN
METHOD:PUBLISH
X-WR-CALNAME:Paneuropa
X-ORIGINAL-URL:https://www.paneuropa.at
X-WR-CALDESC:Veranstaltungen für Paneuropa
REFRESH-INTERVAL;VALUE=DURATION:PT1H
X-Robots-Tag:noindex
X-PUBLISHED-TTL:PT1H
BEGIN:VTIMEZONE
TZID:Europe/Vienna
BEGIN:DAYLIGHT
TZOFFSETFROM:+0100
TZOFFSETTO:+0200
TZNAME:CEST
DTSTART:20250330T010000
END:DAYLIGHT
BEGIN:STANDARD
TZOFFSETFROM:+0200
TZOFFSETTO:+0100
TZNAME:CET
DTSTART:20251026T010000
END:STANDARD
END:VTIMEZONE
BEGIN:VEVENT
DTSTART;TZID=Europe/Vienna:20251013T183000
DTEND;TZID=Europe/Vienna:20251013T200000
DTSTAMP:20260419T232951
CREATED:20250926T165642Z
LAST-MODIFIED:20250926T165642Z
UID:3610-1760380200-1760385600@www.paneuropa.at
SUMMARY:Paneuropa Lesekreis
DESCRIPTION:am 13. Oktober wird um 18.30 ein Paneuropäischer Lesekreis stattfinden.\nBei einem Glas Wein werden dabei für Paneuropa essentielle politische Schriften besprochen und diskutiert. Im Anschluss wird es ein get together und die Möglichkeit auf ein Abendessen geben.\nWo? – Clubräumlichkeiten des Rumclub Wien (Sobieskiplatz 8\, A-1090 Wien)\nWann? – Mo\, 13. Oktober\, um 18:30\n\nDetails und gesonderte Einladung folgen.
URL:https://www.paneuropa.at/termin/paneuropa-lesekreis/
LOCATION:Wien
CATEGORIES:Jugendveranstaltung
ORGANIZER;CN="Paneuropabewegung %C3%96sterreich":MAILTO:oesterreich@paneuropa.at
END:VEVENT
END:VCALENDAR