BEGIN:VCALENDAR
VERSION:2.0
PRODID:-//Paneuropa - ECPv6.3.5//NONSGML v1.0//EN
CALSCALE:GREGORIAN
METHOD:PUBLISH
X-ORIGINAL-URL:https://www.paneuropa.at
X-WR-CALDESC:Veranstaltungen für Paneuropa
REFRESH-INTERVAL;VALUE=DURATION:PT1H
X-Robots-Tag:noindex
X-PUBLISHED-TTL:PT1H
BEGIN:VTIMEZONE
TZID:Europe/Vienna
BEGIN:DAYLIGHT
TZOFFSETFROM:+0100
TZOFFSETTO:+0200
TZNAME:CEST
DTSTART:20250330T010000
END:DAYLIGHT
BEGIN:STANDARD
TZOFFSETFROM:+0200
TZOFFSETTO:+0100
TZNAME:CET
DTSTART:20251026T010000
END:STANDARD
END:VTIMEZONE
BEGIN:VEVENT
DTSTART;TZID=Europe/Vienna:20250916T180000
DTEND;TZID=Europe/Vienna:20250916T203000
DTSTAMP:20260420T011302
CREATED:20250721T123926Z
LAST-MODIFIED:20250903T100651Z
UID:3561-1758045600-1758054600@www.paneuropa.at
SUMMARY:Serbiens Weg in die Europäische Union
DESCRIPTION:Dienstag\, 16. September 2025\, 18:00 Uhr\nParlament\, Dr. Karl Renner Ring 3\, Wien\nEinleitungsrede: Außenministerin Beate Meinl-Reisinger\, angefragt\nEs diskutieren:\nPavle Grbović (Mitglied im serbischen Parlament)\nMichael Martens (Redakteur FAZ)\nArmina Galijaš (Ass. Prof. Universität Graz)\nMarkus Kaiser (Friedrich Naumann Stiftung)\nModeration: Andreas Grassl\nDie Veranstaltung wird serbisch-deutsch gedolmetscht!\nEine Anmeldung zur Veranstaltung ist unbedingt notwendig: office@paneuropa.at \nAnmeldeschluss: Donnerstag\, 11. September 2025\, 12:00 Uhr\nBitte beachten Sie: für den Eintritt in das Parlamentsgebäude wird es einen Sicherheitscheck geben. Deshalb ist die rechtzeitige Anmeldung unbedingt notwendig. Bitte vergessen Sie nicht einen Lichtbildausweis mitzubringen.
URL:https://www.paneuropa.at/termin/veranstaltung-zu-serbien/
LOCATION:Parlament
CATEGORIES:Paneuropa,Veranstaltung
ORGANIZER;CN="Paneuropabewegung %C3%96sterreich":MAILTO:oesterreich@paneuropa.at
END:VEVENT
END:VCALENDAR