BEGIN:VCALENDAR
VERSION:2.0
PRODID:-//Paneuropa - ECPv6.3.5//NONSGML v1.0//EN
CALSCALE:GREGORIAN
METHOD:PUBLISH
X-ORIGINAL-URL:https://www.paneuropa.at
X-WR-CALDESC:Veranstaltungen für Paneuropa
REFRESH-INTERVAL;VALUE=DURATION:PT1H
X-Robots-Tag:noindex
X-PUBLISHED-TTL:PT1H
BEGIN:VTIMEZONE
TZID:Europe/Vienna
BEGIN:DAYLIGHT
TZOFFSETFROM:+0100
TZOFFSETTO:+0200
TZNAME:CEST
DTSTART:20250330T010000
END:DAYLIGHT
BEGIN:STANDARD
TZOFFSETFROM:+0200
TZOFFSETTO:+0100
TZNAME:CET
DTSTART:20251026T010000
END:STANDARD
END:VTIMEZONE
BEGIN:VEVENT
DTSTART;TZID=Europe/Vienna:20250912T150000
DTEND;TZID=Europe/Vienna:20250912T200000
DTSTAMP:20260420T011302
CREATED:20250804T171238Z
LAST-MODIFIED:20250903T094206Z
UID:3572-1757689200-1757707200@www.paneuropa.at
SUMMARY:EINE FRAGE DER GEISTESHALTUNG
DESCRIPTION:DER 12. SEPTEMBER  EINE FRAGE DER GEISTESHALTUNG \nEuropas Sicherheit und Verteidigung zwischen Tradition und Zukunft\nFreitag\, 12. September 2025 um 1500 Uhr Modul University Vienna\, Am Kahlenberg 1\, 1190 Wien\nPROGRAMM \n15:00 Eintreffen und Sektempfang \n15:45 Begrüßung durch die Veranstalter und die Hausherren \nKeynote von Landeshauptmann a.D. Univ. Prof. Dr. Franz Schausberger \n16:00 Podiumsdiskussion \n17:30 Diskussion mit dem Auditorium \n18:00 Buffet und gemütlicher Ausklang \n20:00 Ende der Veranstaltung \nDISKUTANTEN \n Mag. Lukas Mandl\, Abgeordneter zum Europäischen Parlament \nVinzenz von Stimpfl-Abele\, Prokurator des St. Georgs-Orden \nDr. Harald Tripp\, Militärerzdekan \nBrigadier Mag. Kurt Wagner\, Militärkommandant Wien  \nDr. Gudula Walterskirchen\, Historikerin und Autorin \nChristian Wehrschütz*\, ORF Korrespondent \nMODERATION: Rainhard Kloucek\, Präsident Paneuropabewegung Österreich \nAnmeldung bitte bis 8. September 2025 unter kanzleramt@georgsorden.eu\n\nZusage vorbehaltlich kurzfristiger anderer Verpflichtungen\n\nJedes Jahr zum 12. September gedenkt die europäische Schicksalsgemeinschaft des Entsatzes von Wien im Jahr 1683. Eine gerechte und verantwortungsbewusste Deutung dieses für die Geschichte Europas so schicksalhaften Ereignisses ist von hoher und zukunftsrelevanter Bedeutung\, für unser weiteres Denken und Handeln\, für das Setzen der richtigen Schritte und das Erreichen nachhaltiger Ziele. \nDer militärische Erfolg am Kahlenberg führte unmittelbar zur Gründung der „Heiligen Liga“ und der Unterzeichnung des „Ewigen Frieden“ – einer Vereinigung aller Kräfte Mittel‐ und Osteuropas für Frieden und Zusammenarbeit auf dem Kontinent. \nDer Rektor der Josefskirche am Kahlenberg steht erfolgreich in der Verantwortung für dieses gerechte Gedenken: Einheit und Friede in Europa sind möglich. \nIn einer Zeit des Aufbrechens eines neuen Konflikts zwischen West und Ost in Europa ist die  Rückbesinnung auf unsere Geschichte und ihre Lehren sowie unsere Traditionen\, auf die Erfolge von Politik und Diplomatie für Frieden und Freiheit\, auf unsere historischen Fähigkeiten zur  Überwindung von Krieg und Beilegung aller Feindseligkeiten wichtiger denn je. \nWir wollen daher den symbolträchtigen Ort und den Jahrestag nützen\, um auf die Geschichte und  auf die Gegenwart sowie in die Zukunft zu blicken\, um uns angesichts unserer Sorgen um die  eskalierenden militärischen Auseinandersetzung und Aufrüstungen gemeinsam zu orientieren\, wie wir in Europa immer wieder Frieden und Versöhnung erreicht haben und darüber nachdenken\, wie wir dies jetzt wieder erreichen können. \nDas zentrale und epochale Friedensprojekt auf unserem Kontinent\, die Europäische Union\, die letztlich in der geistigen Nachfolge aller durch die Jahrhunderte gegründeten Orden\, Ligen und Unionen steht\, ist enorm herausgefordert. Was kann nun einen entscheidenden Unterschied machen zwischen Krieg und Frieden in Europa? Darüber müssen wir dringend miteinander sprechen.
URL:https://www.paneuropa.at/termin/eine-frage-der-geisteshaltung/
LOCATION:Wien
CATEGORIES:Paneuropa,Veranstaltung
END:VEVENT
END:VCALENDAR