BEGIN:VCALENDAR
VERSION:2.0
PRODID:-//Paneuropa - ECPv6.3.5//NONSGML v1.0//EN
CALSCALE:GREGORIAN
METHOD:PUBLISH
X-ORIGINAL-URL:https://www.paneuropa.at
X-WR-CALDESC:Veranstaltungen für Paneuropa
REFRESH-INTERVAL;VALUE=DURATION:PT1H
X-Robots-Tag:noindex
X-PUBLISHED-TTL:PT1H
BEGIN:VTIMEZONE
TZID:Europe/Vienna
BEGIN:DAYLIGHT
TZOFFSETFROM:+0100
TZOFFSETTO:+0200
TZNAME:CEST
DTSTART:20250330T010000
END:DAYLIGHT
BEGIN:STANDARD
TZOFFSETFROM:+0200
TZOFFSETTO:+0100
TZNAME:CET
DTSTART:20251026T010000
END:STANDARD
END:VTIMEZONE
BEGIN:VEVENT
DTSTART;TZID=Europe/Vienna:20250819T093000
DTEND;TZID=Europe/Vienna:20250819T140000
DTSTAMP:20260420T024414
CREATED:20250721T123548Z
LAST-MODIFIED:20250731T150310Z
UID:3555-1755595800-1755612000@www.paneuropa.at
SUMMARY:Paneuropa-Weinpicknick
DESCRIPTION:Einladung\n\nCCB \nCORPES CONSULAIRE BURGENLAND \nEINLADUNG ZUM EUROPATAG \n19. August 2025 in Eisenstadt \n\nDen Europatag wollen wir am Europa-Tisch\, wo alle EU-Staaten eingraviert sind\,\n am Europaplatz vor dem Eisenstädter Landhaus begehen. \nDazu werden jeweils die Botschafter jener EU-Länder gerne eingeladen\, \ndie in diesem Jahr den EU-Vorsitz führen:  \n1.Halbjahr: Polen; 2.Halbjahr Dänemark.\nHerr Landeshauptmann Mag. Hans Peter Doskozil  \nhat den Ehrenschutz  \nüber diesen Symbolakt im Geiste paneuropäischer Tugenden: \nFreiheit + Freundschaft + Friede + Freude \nübernommen. \n\nWeiters werden das Corps Consulaire\, die Paneuropa-Bewegung  \nund der Europäische Weinritterorden bei diesem Europatag vertreten sein. \n\nFestprogramm \nAb 9:30 Uhr Treffpunkt und Agape im Hof beim Europabüro des Senates Eisenstadt\, Hauptstrasse 40\, Cafe Central/Steirische Botschaft \n10:30 Uhr Beim Europatisch \nStatements der Repräsentanten   \nSymbolhandlung der Friedenskelch-Reichung \nIm Anschluss findet an der Grenze  \nSt. Margarethen/Fertörakos  \ndas PANEUROPA-WEINPICKNICK statt. \n\n\nPANEUROPA-WEIN-PICKNICK \nam Dienstag\, den 19. August 2025 um 12.00 Uhr\, \nwelches wir gemeinsam \nan der Grenze zwischen St. Margarethen und Fertőrákos – \n(Zufahrt von St. Margarethen bzw. Fertőrákos)\, \ndem historischen Ort wo 1989 – beim \nPANEUROPÄISCHEN-PICKNICK \nder Eiserne Vorhang geöffnet \nund der östliche Teil Europas \nmit der Freiheit verbunden wurde\, \nfeiern. \nDer edle Wein stiftet Freundschaft\, Frieden und Freude\, \nverbindet die Menschen und Völker auf einer noblen Ebene – \ner ist wahrlich würdig besungen zu werden! 
URL:https://www.paneuropa.at/termin/paneuropa-weinpicknick/
LOCATION:Wien
CATEGORIES:Paneuropa,Veranstaltung
END:VEVENT
END:VCALENDAR