BEGIN:VCALENDAR
VERSION:2.0
PRODID:-//Paneuropa - ECPv6.3.5//NONSGML v1.0//EN
CALSCALE:GREGORIAN
METHOD:PUBLISH
X-ORIGINAL-URL:https://www.paneuropa.at
X-WR-CALDESC:Veranstaltungen für Paneuropa
REFRESH-INTERVAL;VALUE=DURATION:PT1H
X-Robots-Tag:noindex
X-PUBLISHED-TTL:PT1H
BEGIN:VTIMEZONE
TZID:Europe/Vienna
BEGIN:DAYLIGHT
TZOFFSETFROM:+0100
TZOFFSETTO:+0200
TZNAME:CEST
DTSTART:20240331T010000
END:DAYLIGHT
BEGIN:STANDARD
TZOFFSETFROM:+0200
TZOFFSETTO:+0100
TZNAME:CET
DTSTART:20241027T010000
END:STANDARD
END:VTIMEZONE
BEGIN:VEVENT
DTSTART;TZID=Europe/Vienna:20240819T090000
DTEND;TZID=Europe/Vienna:20240819T130000
DTSTAMP:20260420T204227
CREATED:20240221T144316Z
LAST-MODIFIED:20240221T144316Z
UID:3250-1724058000-1724072400@www.paneuropa.at
SUMMARY:Paneuropäisches Weinpicknick
DESCRIPTION: EINLADUNG PANEUROPA-WEIN-PICKNICK  \nam Montag\, den 19. August 2024 um 12.00 Uhr\,  \nwelches wir gemeinsam an der Grenze zwischen St. Margarethen und Fertőrákos – (Zufahrt von St. Margarethen bzw. Fertőrákos)\, dem historischen Ort wo 1989 – beim PANEUROPÄISCHEN-PICKNICK der Eiserne Vorhang geöffnet und der östliche Teil Europas mit der Freiheit verbunden wurde\, feiern.  \nDer edle Wein stiftet Freundschaft\, Frieden und Freude\,  \nverbindet die Menschen und Völker auf einer noblen Ebene –  \ner ist wahrlich würdig besungen zu werden!  \nFESTPROGRAMM – 19. August 2024  \nI. Festakt beim Europatisch am Europaplatz vor dem Landhaus\, Eisenstadt  \n9:00 Uhr Treffpunkt beim Café Central\, Eisenstadt\, Hauptstraße 40\, Willkommenstrunk\, Gemeinsamer Gang zum Landhaus\, Europaplatz  \n10:00 Uhr Aufstellung um den Europatisch  \nBegrüßung – Grußadressen der öffentlichen Mandatare  – Memorandum zu Europa  \nKelchreichung im Geiste paneuropäischer Tugenden von:  \nFreiheit + Freundschaft + Friede + Freude  \nAnschließend Transfer an die Grenze St. Margarethen/Fertőrákos  \nII. Festakt an der Grenze St. Margarethen/Fertőrákos  \n12.00 Uhr Fanfare  \nBegrüßung Proconsul Burgenland  \nProconsul Ungarn / Legat von Sopron  \nOrdensgebet Ordensdekan Kan. Dr. Richard Geier  \nGrußadressen von öffentlichen Mandataren  \nBürgermeister von Sopron  \nFanfare  \nRede: Obmann Europaforum Burgenland  \nRede: Präsident der Union Corps Consulaire Autriche  \nRede: Präsident der Europäischen Friedenstiftung  \nFanfare  \nHymnen  \nAgape mit Verkostung edler Weine  \nDiese Veranstaltung wird jährlich am historischen Ort von folgenden Trägern veranstaltet:  \nOrdo Equestris Vini Europae (Consulat Bgld. + Consulat H)\, Union Corps Consulaire Autriche  \nPaneuropa-Bewegung Österreich\, Europaforum Burgenland\, Corps Consulaire Burgenland 
URL:https://www.paneuropa.at/termin/paneuropaeisches-weinpicknick/
LOCATION:Ort des Paneuropäischen Picknicks
CATEGORIES:Paneuropa
END:VEVENT
END:VCALENDAR