BEGIN:VCALENDAR
VERSION:2.0
PRODID:-//Paneuropa - ECPv6.3.5//NONSGML v1.0//EN
CALSCALE:GREGORIAN
METHOD:PUBLISH
X-ORIGINAL-URL:https://www.paneuropa.at
X-WR-CALDESC:Veranstaltungen für Paneuropa
REFRESH-INTERVAL;VALUE=DURATION:PT1H
X-Robots-Tag:noindex
X-PUBLISHED-TTL:PT1H
BEGIN:VTIMEZONE
TZID:Europe/Vienna
BEGIN:DAYLIGHT
TZOFFSETFROM:+0100
TZOFFSETTO:+0200
TZNAME:CEST
DTSTART:20240331T010000
END:DAYLIGHT
BEGIN:STANDARD
TZOFFSETFROM:+0200
TZOFFSETTO:+0100
TZNAME:CET
DTSTART:20241027T010000
END:STANDARD
END:VTIMEZONE
BEGIN:VEVENT
DTSTART;TZID=Europe/Vienna:20240522T190000
DTEND;TZID=Europe/Vienna:20240522T210000
DTSTAMP:20260421T014046
CREATED:20240521T171040Z
LAST-MODIFIED:20240521T171322Z
UID:3298-1716404400-1716411600@www.paneuropa.at
SUMMARY:Wir kandidieren
DESCRIPTION:Mittwoch\, 22. Mai 2024\, 19:00 Uhr\n„Wir kandidieren“\nGespräch mit Kandidatinnen und Kandidaten für die Europawahl\nPolina Vekova\, Vizepräsidentin der Paneuropabewegung Österreich\, Bezirksrätin in Wien I.\, ÖVP\nSeverin Gruber\, Mitglied der Paneuropabewegung Österreich\, Arbeitsmarktexperte\, ÖVP\nGabriel Paulus\, Jurist\, Vorstandsmitglied der Junos\, Neos\nSteingasse 25\, 1030 Wien\, Kulturzentrum im Haus der Heimat\nWir bitten um Anmeldung unter office@paneuropa.at
URL:https://www.paneuropa.at/termin/wir-kandidieren/
LOCATION:Paneuropa Büro\, Steingasse 25/7\, Wien\, Wien\, 1030\, Österreich
CATEGORIES:Paneuropa,Veranstaltung
ORGANIZER;CN="Paneuropabewegung %C3%96sterreich":MAILTO:oesterreich@paneuropa.at
END:VEVENT
END:VCALENDAR