BEGIN:VCALENDAR
VERSION:2.0
PRODID:-//Paneuropa - ECPv6.3.5//NONSGML v1.0//EN
CALSCALE:GREGORIAN
METHOD:PUBLISH
X-WR-CALNAME:Paneuropa
X-ORIGINAL-URL:https://www.paneuropa.at
X-WR-CALDESC:Veranstaltungen für Paneuropa
REFRESH-INTERVAL;VALUE=DURATION:PT1H
X-Robots-Tag:noindex
X-PUBLISHED-TTL:PT1H
BEGIN:VTIMEZONE
TZID:Europe/Vienna
BEGIN:DAYLIGHT
TZOFFSETFROM:+0100
TZOFFSETTO:+0200
TZNAME:CEST
DTSTART:20240331T010000
END:DAYLIGHT
BEGIN:STANDARD
TZOFFSETFROM:+0200
TZOFFSETTO:+0100
TZNAME:CET
DTSTART:20241027T010000
END:STANDARD
END:VTIMEZONE
BEGIN:VEVENT
DTSTART;TZID=Europe/Vienna:20240111T120000
DTEND;TZID=Europe/Vienna:20240111T130000
DTSTAMP:20260421T081806
CREATED:20231219T175047Z
LAST-MODIFIED:20231219T175047Z
UID:3198-1704974400-1704978000@www.paneuropa.at
SUMMARY:Rede zur Zukunft Europas
DESCRIPTION:Einladung zur Rede zur Zukunft Europas von Karl von Habsburg\n11. Jänner 2024 um 12:00 Uhr\nGastredner: Randolph Churchill\nDie Veranstaltung wird online stattfinden. Bitte registrieren Sie sich hier!
URL:https://www.paneuropa.at/termin/rede-zur-zukunft-europas-2/
LOCATION:Wien
CATEGORIES:Paneuropa,Veranstaltung
END:VEVENT
END:VCALENDAR