BEGIN:VCALENDAR
VERSION:2.0
PRODID:-//Paneuropa - ECPv6.3.5//NONSGML v1.0//EN
CALSCALE:GREGORIAN
METHOD:PUBLISH
X-WR-CALNAME:Paneuropa
X-ORIGINAL-URL:https://www.paneuropa.at
X-WR-CALDESC:Veranstaltungen für Paneuropa
REFRESH-INTERVAL;VALUE=DURATION:PT1H
X-Robots-Tag:noindex
X-PUBLISHED-TTL:PT1H
BEGIN:VTIMEZONE
TZID:Europe/Vienna
BEGIN:DAYLIGHT
TZOFFSETFROM:+0100
TZOFFSETTO:+0200
TZNAME:CEST
DTSTART:20230326T010000
END:DAYLIGHT
BEGIN:STANDARD
TZOFFSETFROM:+0200
TZOFFSETTO:+0100
TZNAME:CET
DTSTART:20231029T010000
END:STANDARD
END:VTIMEZONE
BEGIN:VEVENT
DTSTART;TZID=Europe/Vienna:20231214T190000
DTEND;TZID=Europe/Vienna:20231214T210000
DTSTAMP:20260421T095652
CREATED:20231206T151917Z
LAST-MODIFIED:20231206T151917Z
UID:3192-1702580400-1702587600@www.paneuropa.at
SUMMARY:Paneuropa Weihnachtsgala
DESCRIPTION:Wir dürfen Sie ganz herzlich zu unserer Weihnachtsfeier am 14. Dezember einladen. \nMitglieder der Paneuropabewegung Österreich\, die ihren Mitgliedsbeitrag bezahlt haben sind unsere Gäste. Alle anderen Besucher bitten wir um einen Unkostenbeitrag von 15 Euro\, der vor Ort bar bezahlt wird. \n„Heiteres und Besinnliches“\nProgramm \nSusanna Chakhoian\nSopranistin und Solistin der Nationaloper Ukraine singt „Italienische Lieder“ \nAm Klavier: István Bonyhádi\nMitarbeiter der Paneuropa-Jugend lesen Texte: \n„Ein bisserl schimpfen\, ein bisserl räsonieren“ \nWir dürfen Sie bitten\, uns rechtzeitig Bescheid zu geben (bis Montag\, 11. Dezember 2023 um 13:00 Uhr)\, ob wir Sie bei der Weihnachtsgala begrüssen dürfen: office@paneuropa.at
URL:https://www.paneuropa.at/termin/paneuropa-weihnachtsgala/
LOCATION:Paneuropa Büro\, Steingasse 25/7\, Wien\, Wien\, 1030\, Österreich
CATEGORIES:Paneuropa,Veranstaltung
ORGANIZER;CN="Paneuropabewegung %C3%96sterreich":MAILTO:oesterreich@paneuropa.at
END:VEVENT
END:VCALENDAR