BEGIN:VCALENDAR
VERSION:2.0
PRODID:-//Paneuropa - ECPv6.3.5//NONSGML v1.0//EN
CALSCALE:GREGORIAN
METHOD:PUBLISH
X-WR-CALNAME:Paneuropa
X-ORIGINAL-URL:https://www.paneuropa.at
X-WR-CALDESC:Veranstaltungen für Paneuropa
REFRESH-INTERVAL;VALUE=DURATION:PT1H
X-Robots-Tag:noindex
X-PUBLISHED-TTL:PT1H
BEGIN:VTIMEZONE
TZID:Europe/Vienna
BEGIN:DAYLIGHT
TZOFFSETFROM:+0100
TZOFFSETTO:+0200
TZNAME:CEST
DTSTART:20230326T010000
END:DAYLIGHT
BEGIN:STANDARD
TZOFFSETFROM:+0200
TZOFFSETTO:+0100
TZNAME:CET
DTSTART:20231029T010000
END:STANDARD
END:VTIMEZONE
BEGIN:VEVENT
DTSTART;TZID=Europe/Vienna:20230819T090000
DTEND;TZID=Europe/Vienna:20230819T140000
DTSTAMP:20260421T154144
CREATED:20230728T160841Z
LAST-MODIFIED:20230728T161650Z
UID:3121-1692435600-1692453600@www.paneuropa.at
SUMMARY:Paneuropa Wein Picknick
DESCRIPTION:Zur Erinnerung an das Paneuropäische Picknick vom 19. August 1989\, bei dem der Eiserne Vorhang geöffnet und der östliche Teil Europas mit der Freiheit verbunden wurde. \nAm Ort des historischen Paneuropäischen Picknicks an der Grenze zwischen Österreich und Ungarn bei St. Margarethen / Fertörakos. \nFestprogramm I.: Festakt beim Europatisch am Europaplatz vor dem Landhaus\, Eisenstadt \n09.00 Treffpunkt beim Cafe Central\, Hauptstraße 40\, Eisenstadt \n10.00 Europatisch am Europaplatz \nFestprogramm II.: Festakt an der Grenze St. Margarethen / Fertörakos am Ort des historischen Paneuropäischen Picknicks \n12.00 Fanfare\, Ansprachen\, Agape mit Verkostung edler Weine
URL:https://www.paneuropa.at/termin/paneuropa-wein-picknick-3/
LOCATION:Ort des Paneuropäischen Picknicks
CATEGORIES:Paneuropa,Veranstaltung
END:VEVENT
END:VCALENDAR