BEGIN:VCALENDAR
VERSION:2.0
PRODID:-//Paneuropa - ECPv6.3.5//NONSGML v1.0//EN
CALSCALE:GREGORIAN
METHOD:PUBLISH
X-ORIGINAL-URL:https://www.paneuropa.at
X-WR-CALDESC:Veranstaltungen für Paneuropa
REFRESH-INTERVAL;VALUE=DURATION:PT1H
X-Robots-Tag:noindex
X-PUBLISHED-TTL:PT1H
BEGIN:VTIMEZONE
TZID:Europe/Vienna
BEGIN:DAYLIGHT
TZOFFSETFROM:+0100
TZOFFSETTO:+0200
TZNAME:CEST
DTSTART:20230326T010000
END:DAYLIGHT
BEGIN:STANDARD
TZOFFSETFROM:+0200
TZOFFSETTO:+0100
TZNAME:CET
DTSTART:20231029T010000
END:STANDARD
END:VTIMEZONE
BEGIN:VEVENT
DTSTART;TZID=Europe/Vienna:20230510T180000
DTEND;TZID=Europe/Vienna:20230510T200000
DTSTAMP:20260421T203010
CREATED:20230309T141751Z
LAST-MODIFIED:20230328T194704Z
UID:3068-1683741600-1683748800@www.paneuropa.at
SUMMARY:Putins Krieg gegen die Ukraine und seine Auswirkung auf die globale Machtstruktur  -  USA\, Nato und Europäische Union
DESCRIPTION:Paneuropabewegung Österreich \nin Kooperation mit Akademiker- und Studentenverbindungen des ÖCV\,\ngemeinsam mit der Österreichisch-Amerikanischen Gesellschaft (ÖAG) \nEINLADUNG zum Salzburger Paneuropaforum: \nDer frühere österreichische Verteidigungsminister und Nationalratspräsident Dr. Werner Fasslabend wird in seiner Eigenschaft als Präsident des „Austria Instituts für Europa- und Sicherheitspolitik“ Anfang Mai in Süd-Korea sein. Unmittelbar danach spricht er bei uns  –  zusammen mit dem langjährigen Generalstabschef des Bundesheeres\, General Roland Ertl  –  im Rahmen einer Kooperation mit der Österreichisch-Amerikanischen Gesellschaft (Präsidentin: Dr. Maria Ganauser). Das Thema: Putins Krieg gegen die Ukraine und seine Auswirkung auf die globale Machtstruktur  –  USA\, Nato und Europäische Union. \nMittwoch\, 10. Mai 2023\, 18 Uhr. Ort: STIEGL-BRAUWELT\, Bräuhausstr. 9\, Salzburg-Maxglan\, Paracelsus-Stube\,\nParkplätze gratis – (bzw. Salzburger Obus-Linien 1 oder 10\, Haltestelle Bräuhausstraße). \nEintritt frei. Diese Einladung richten wir auch an unseren Freundeskreis\, der schon ab 16:30 Uhr zu einer lockeren Vorrunde zusammentritt. Die Speisekarte der Stiegl-Brauwelt steht zur Verfügung (Konsum bitte auf eigene Rechnung). Herzlich grüßen Rainhard Kloucek\, PANEUROPA-Chefredakteur und Generalsekretär der Paneuropabewegung Österreich\, sowieder Gründer und Vorsitzende des Salzburger Paneuropaforums:\nLudwig Bayer\, Postfach 12\, 5025 Salzburg-Parsch\, Österreich\,\nTelefon +43 699 17197512 – paneuropaforum@gmx.eu –\nAnmeldung wird empfohlen  –  Gäste sind willkommen.
URL:https://www.paneuropa.at/termin/putins-krieg-gegen-die-ukraine-und-seine-auswirkung-auf-die-globale-machtstruktur-usa-nato-und-europaeische-union/
LOCATION:Stiegl-Brauwelt\, Bräuhausstraße 9\, Salzburg-Maxglan
CATEGORIES:Paneuropa,Veranstaltung
ORGANIZER;CN="Paneuropabewegung %C3%96sterreich":MAILTO:oesterreich@paneuropa.at
END:VEVENT
END:VCALENDAR