BEGIN:VCALENDAR
VERSION:2.0
PRODID:-//Paneuropa - ECPv6.3.5//NONSGML v1.0//EN
CALSCALE:GREGORIAN
METHOD:PUBLISH
X-ORIGINAL-URL:https://www.paneuropa.at
X-WR-CALDESC:Veranstaltungen für Paneuropa
REFRESH-INTERVAL;VALUE=DURATION:PT1H
X-Robots-Tag:noindex
X-PUBLISHED-TTL:PT1H
BEGIN:VTIMEZONE
TZID:Europe/Vienna
BEGIN:DAYLIGHT
TZOFFSETFROM:+0100
TZOFFSETTO:+0200
TZNAME:CEST
DTSTART:20230326T010000
END:DAYLIGHT
BEGIN:STANDARD
TZOFFSETFROM:+0200
TZOFFSETTO:+0100
TZNAME:CET
DTSTART:20231029T010000
END:STANDARD
END:VTIMEZONE
BEGIN:VEVENT
DTSTART;TZID=Europe/Vienna:20230420T190000
DTEND;TZID=Europe/Vienna:20230420T203000
DTSTAMP:20260421T221504
CREATED:20230328T194343Z
LAST-MODIFIED:20230414T152158Z
UID:3072-1682017200-1682022600@www.paneuropa.at
SUMMARY:Speech on the future of Europe – Talk with Karl von Habsburg
DESCRIPTION:Online-Discussion with \nKarl von Habsburg\, President of Paneuropabewegung Österreich \nOrganized by „Comité español por la Unión Paneuropea“ and „Slovensko Panevropsko Gibanje“ \nModerated by Igor Kovac and Carlos Uriarte Sanchez \nIn his „Speech on the Future of Europe“ – held on January 11\, 2023 –\, the President of the Paneuropean Movement Austria Karl von Habsburg advocates greater military support for Ukraine\, advocates a regime change in Moscow and Minsk\, discusses China’s power politics\, which are dangerous for the Western community of values\, and calls for a European foreign and security policy. In an online event on April 20th we want to discuss with Karl von Habsburg the main topics of his speech\, the impact of Russian and Chinese imperialism on European politics and what Paneuropa will have to do in the near future. \nPlease register here!
URL:https://www.paneuropa.at/termin/speech-on-the-future-of-europe/
LOCATION:Wien
CATEGORIES:Paneuropa,Veranstaltung
END:VEVENT
END:VCALENDAR