BEGIN:VCALENDAR
VERSION:2.0
PRODID:-//Paneuropa - ECPv6.3.5//NONSGML v1.0//EN
CALSCALE:GREGORIAN
METHOD:PUBLISH
X-ORIGINAL-URL:https://www.paneuropa.at
X-WR-CALDESC:Veranstaltungen für Paneuropa
REFRESH-INTERVAL;VALUE=DURATION:PT1H
X-Robots-Tag:noindex
X-PUBLISHED-TTL:PT1H
BEGIN:VTIMEZONE
TZID:Europe/Vienna
BEGIN:DAYLIGHT
TZOFFSETFROM:+0100
TZOFFSETTO:+0200
TZNAME:CEST
DTSTART:20230326T010000
END:DAYLIGHT
BEGIN:STANDARD
TZOFFSETFROM:+0200
TZOFFSETTO:+0100
TZNAME:CET
DTSTART:20231029T010000
END:STANDARD
END:VTIMEZONE
BEGIN:VEVENT
DTSTART;TZID=Europe/Vienna:20230412T170000
DTEND;TZID=Europe/Vienna:20230412T190000
DTSTAMP:20260421T221653
CREATED:20230328T194916Z
LAST-MODIFIED:20230328T194916Z
UID:3077-1681318800-1681326000@www.paneuropa.at
SUMMARY:Internet und künstliche Intelligenz
DESCRIPTION:Exzellenzen! Sehr verehrte Damen\, sehr geehrte Herren\, liebe Freunde\, \nein führender Wissenschaftler und exzellenter Kenner des Internet-Innenlebens gibt uns die Ehre. Universitätsprofessor Carl-Herbert Rokitansky kommt zu unserem ‚Paneuropa-Kraftgespräch‘ am 12. April. Thema: Internet und Künstliche Intelligenz. Da der erste April-Mittwoch in der Karwoche liegt\, verschieben wir auf den zweiten Mittwoch: 12.04.2023. Um 16:30 Uhr startet die „Vorrunde“ (Besitzer alter Dieselautos könnten an Vorglühen und Warmlaufen denken\, Appetitgesteuerte an eine Tee- oder Bierjause\, Sportler an ein Kraftgespräch). Jedenfalls beginnt um 17:00 Uhr unser Ehrengast – der renommierte Informatik-Universitätsprofessor Carl-Herbert Rokitansky – mit einer Stegreif-Ansprache zum Themenkreis Internet und Künstliche Intelligenz (danach Diskurs). Er hat ChatGPT in den letzten Wochen intensiv getestet und ist „dabei zu überraschenden Ergebnissen gekommen“\, die er gerne präsentieren und diskutieren möchte: „Ich denke\, das kann ein sehr interessanter und spannender Abend werden“\, schreibt er. Das Salzburger Paneuropaforum legt folgende Regel für 2023 vor: wir treffen uns an jedem ersten (erforderlichenfalls zweiten) Mittwoch in jedem Monat um 16:30 Uhr\, wobei unser jeweiliger Ehrengast um 17:00 Uhr mit seiner Ansprache beginnt. Ort: wie immer in der STIEGL-BRAUWELT\, Bräuhausstr. 9\, Salzburg-Maxglan
URL:https://www.paneuropa.at/termin/internet-und-kuenstliche-intelligenz/
LOCATION:Stiegl-Brauwelt\, Bräuhausstraße 9\, Salzburg-Maxglan
CATEGORIES:Paneuropa,Veranstaltung
ORGANIZER;CN="Paneuropabewegung %C3%96sterreich":MAILTO:oesterreich@paneuropa.at
END:VEVENT
END:VCALENDAR