BEGIN:VCALENDAR
VERSION:2.0
PRODID:-//Paneuropa - ECPv6.3.5//NONSGML v1.0//EN
CALSCALE:GREGORIAN
METHOD:PUBLISH
X-WR-CALNAME:Paneuropa
X-ORIGINAL-URL:https://www.paneuropa.at
X-WR-CALDESC:Veranstaltungen für Paneuropa
REFRESH-INTERVAL;VALUE=DURATION:PT1H
X-Robots-Tag:noindex
X-PUBLISHED-TTL:PT1H
BEGIN:VTIMEZONE
TZID:Europe/Vienna
BEGIN:DAYLIGHT
TZOFFSETFROM:+0100
TZOFFSETTO:+0200
TZNAME:CEST
DTSTART:20220327T010000
END:DAYLIGHT
BEGIN:STANDARD
TZOFFSETFROM:+0200
TZOFFSETTO:+0100
TZNAME:CET
DTSTART:20221030T010000
END:STANDARD
END:VTIMEZONE
BEGIN:VEVENT
DTSTART;TZID=Europe/Vienna:20220819T120000
DTEND;TZID=Europe/Vienna:20220819T130000
DTSTAMP:20260422T115217
CREATED:20220809T135318Z
LAST-MODIFIED:20220809T135319Z
UID:2870-1660910400-1660914000@www.paneuropa.at
SUMMARY:Paneuropäisches Picknick
DESCRIPTION:Zum Gedenken an das „Paneuropäische Picknick“ vom 19. August 1989\, bei dem Eiserne Vorhang zerschnitten und die Teilung Europas beendet wurde\, finden am 19. August 2022 zwei Festakte statt: \nCorpes Consulaire Burgenland \n10.00 Uhr beim Europatisch vor dem Landhaus in Eisenstadt – Festakt \nOrdo Equestris Vini Europae / Paneuropabewegung Österreich /  Corpes Consulaire Burgenland / Europaforum Burgenland \n12.00 Uhr Festakt am Ort des Paneuropäischen Picknick an der Grenze zwischen St. Margarethen und Fertörakos \nanschließende Agape mit Verkostung edler Weine.
URL:https://www.paneuropa.at/termin/paneuropaeisches-picknick/
LOCATION:Wien
CATEGORIES:Paneuropa,Veranstaltung
END:VEVENT
END:VCALENDAR