BEGIN:VCALENDAR
VERSION:2.0
PRODID:-//Paneuropa - ECPv6.3.5//NONSGML v1.0//EN
CALSCALE:GREGORIAN
METHOD:PUBLISH
X-WR-CALNAME:Paneuropa
X-ORIGINAL-URL:https://www.paneuropa.at
X-WR-CALDESC:Veranstaltungen für Paneuropa
REFRESH-INTERVAL;VALUE=DURATION:PT1H
X-Robots-Tag:noindex
X-PUBLISHED-TTL:PT1H
BEGIN:VTIMEZONE
TZID:Europe/Vienna
BEGIN:DAYLIGHT
TZOFFSETFROM:+0100
TZOFFSETTO:+0200
TZNAME:CEST
DTSTART:20220327T010000
END:DAYLIGHT
BEGIN:STANDARD
TZOFFSETFROM:+0200
TZOFFSETTO:+0100
TZNAME:CET
DTSTART:20221030T010000
END:STANDARD
END:VTIMEZONE
BEGIN:VEVENT
DTSTART;TZID=Europe/Vienna:20220515T150000
DTEND;TZID=Europe/Vienna:20220515T190000
DTSTAMP:20260422T164852
CREATED:20220509T123925Z
LAST-MODIFIED:20220509T123925Z
UID:2788-1652626800-1652641200@www.paneuropa.at
SUMMARY:Demo/Marsch STOP RUSSIAN WAR IN UKRAINE
DESCRIPTION:Demo/Marsch: STOP RUSSIAN WAR IN UKRAINE \nSonntag\, 15. Mai 2022\, 15:00 Uhr Heldenplatz\, 1010 Wien \n Organisiert von: Unlimited Democracy \nEine möglichst breite Teilnahme ist erwünscht!
URL:https://www.paneuropa.at/termin/demo-marsch-stop-russian-war-in-ukraine/
CATEGORIES:Paneuropa,Veranstaltung
END:VEVENT
END:VCALENDAR