BEGIN:VCALENDAR
VERSION:2.0
PRODID:-//Paneuropa - ECPv6.3.5//NONSGML v1.0//EN
CALSCALE:GREGORIAN
METHOD:PUBLISH
X-WR-CALNAME:Paneuropa
X-ORIGINAL-URL:https://www.paneuropa.at
X-WR-CALDESC:Veranstaltungen für Paneuropa
REFRESH-INTERVAL;VALUE=DURATION:PT1H
X-Robots-Tag:noindex
X-PUBLISHED-TTL:PT1H
BEGIN:VTIMEZONE
TZID:Europe/Vienna
BEGIN:DAYLIGHT
TZOFFSETFROM:+0100
TZOFFSETTO:+0200
TZNAME:CEST
DTSTART:20220327T010000
END:DAYLIGHT
BEGIN:STANDARD
TZOFFSETFROM:+0200
TZOFFSETTO:+0100
TZNAME:CET
DTSTART:20221030T010000
END:STANDARD
END:VTIMEZONE
BEGIN:VEVENT
DTSTART;TZID=Europe/Vienna:20220511T193000
DTEND;TZID=Europe/Vienna:20220511T213000
DTSTAMP:20260422T163904
CREATED:20220509T123630Z
LAST-MODIFIED:20220509T123630Z
UID:2786-1652297400-1652304600@www.paneuropa.at
SUMMARY:100 Jahre Maximiliana / 100 Jahre Paneuropa
DESCRIPTION:100 Jahre Paneuropa – 100 Jahre Maximiliana \nMittwoch\, 11. Mai 2022\, 19:30 Uhr Bude der Maximiliana\, Hoyosgasse 2\, 1040 Wien \nIm Jahr 1922 wurden die Katholisch Österreichische Landsmannschaft Maximiliana und auch die Paneuropa-Union gegründet. Über die Entstehungsgeschichte und die Entwicklung dieser beiden vor 100 Jahren gegründeten Organisationen sprechen: \nKarl von Habsburg\, Präsident der Paneuropabewegung Österreich\, Oberster Bandinhaber KÖL \nRainhard Kloucek\, Generalsekretär Paneuropabewegung Österreich \nDipl. Ing. Heiner von Schuschnigg\, KÖL Maximiliana \nEs moderiert: Maximilian Schmid\, Senior der Maximiliana\, Vorstandsmitglied Paneuropa-Jugend \nUm Anmeldung bis 10. Mai wird gebeten: oesterreich@paneuropa.at \n 
URL:https://www.paneuropa.at/termin/100-jahre-maximiliana-100-jahre-paneuropa/
CATEGORIES:Paneuropa,Veranstaltung
ORGANIZER;CN="Paneuropabewegung %C3%96sterreich":MAILTO:oesterreich@paneuropa.at
END:VEVENT
END:VCALENDAR