BEGIN:VCALENDAR
VERSION:2.0
PRODID:-//Paneuropa - ECPv6.3.5//NONSGML v1.0//EN
CALSCALE:GREGORIAN
METHOD:PUBLISH
X-WR-CALNAME:Paneuropa
X-ORIGINAL-URL:https://www.paneuropa.at
X-WR-CALDESC:Veranstaltungen für Paneuropa
REFRESH-INTERVAL;VALUE=DURATION:PT1H
X-Robots-Tag:noindex
X-PUBLISHED-TTL:PT1H
BEGIN:VTIMEZONE
TZID:Europe/Vienna
BEGIN:DAYLIGHT
TZOFFSETFROM:+0100
TZOFFSETTO:+0200
TZNAME:CEST
DTSTART:20210328T010000
END:DAYLIGHT
BEGIN:STANDARD
TZOFFSETFROM:+0200
TZOFFSETTO:+0100
TZNAME:CET
DTSTART:20211031T010000
END:STANDARD
END:VTIMEZONE
BEGIN:VEVENT
DTSTART;TZID=Europe/Vienna:20211104T190000
DTEND;TZID=Europe/Vienna:20211104T210000
DTSTAMP:20260423T013541
CREATED:20211014T150739Z
LAST-MODIFIED:20211102T153923Z
UID:2656-1636052400-1636059600@www.paneuropa.at
SUMMARY:Surviving near the Empire – Price of modern Kremlin´s Aggression
DESCRIPTION:Invitation to the presentation of the book: Surviving near the Empire – Price of modern Kremlin´s Aggression \nDate: November 4th\, 2021 Time: 19.00 \nLocation: Diplomatische Akademie Wien\, Musikzimmer\, Favoritenstraße 15a\, 1040 Wien \nWelcome words: \nAnna Pattermann\, Unlimited Democracy \nRainhard Kloucek\, Paneuropabewegung Österreich \nPresentation of the book by the authors: \nSeriy Fedunyak: Professor of the Yuriy Fedkovych Chernivtsi National University\, Director of strategic projects of the “Center for Political Narratives of Democracy”. \nYevhen Mahda: PhD: Associate Professor of Igor Sikorsky National Technical University\, Director of the Institute of Word Politics. \nEvhen Tsybulenko: Doctor of Law\, Professor\, Senior Mentor of the Law Institute of Tallinn Technical University\, Professor of Kyiv International University. \nKazimierz Woycicki: Professor of the University of Warsaw\, Historian\, Political Scientist. \nVira Yastrebova: Human Rights Activist\, Head of the Eastern Human Rights Group. \nDiscussion \nPlease let us know if you will accept the invitation by a short message to: oesterreich@paneuropa.at \nCertificates should be presented at the registration desk according to 2\,5G-rules (vaccinated\, recovered\, PCR tested)! \nIn cooperation with: Center for Political Narratives of Democracy\, Unlimited Democracy
URL:https://www.paneuropa.at/termin/surviving-near-the-empire-price-of-modern-kremlins-aggression/
LOCATION:Diplomatische Akademie\, Favoritenstraße 15a\, Wien\, Wien\, 1040
CATEGORIES:Paneuropa,Veranstaltung
ORGANIZER;CN="Paneuropabewegung %C3%96sterreich":MAILTO:oesterreich@paneuropa.at
END:VEVENT
END:VCALENDAR