BEGIN:VCALENDAR
VERSION:2.0
PRODID:-//Paneuropa - ECPv6.3.5//NONSGML v1.0//EN
CALSCALE:GREGORIAN
METHOD:PUBLISH
X-WR-CALNAME:Paneuropa
X-ORIGINAL-URL:https://www.paneuropa.at
X-WR-CALDESC:Veranstaltungen für Paneuropa
REFRESH-INTERVAL;VALUE=DURATION:PT1H
X-Robots-Tag:noindex
X-PUBLISHED-TTL:PT1H
BEGIN:VTIMEZONE
TZID:Europe/Vienna
BEGIN:DAYLIGHT
TZOFFSETFROM:+0100
TZOFFSETTO:+0200
TZNAME:CEST
DTSTART:20210328T010000
END:DAYLIGHT
BEGIN:STANDARD
TZOFFSETFROM:+0200
TZOFFSETTO:+0100
TZNAME:CET
DTSTART:20211031T010000
END:STANDARD
END:VTIMEZONE
BEGIN:VEVENT
DTSTART;TZID=Europe/Vienna:20210918T100000
DTEND;TZID=Europe/Vienna:20210918T180000
DTSTAMP:20260423T045725
CREATED:20210728T165206Z
LAST-MODIFIED:20210914T141048Z
UID:2629-1631959200-1631988000@www.paneuropa.at
SUMMARY:Migration – Intercultural Dialogue – Future of Europe / CITIMIG
DESCRIPTION:CITIMIG – Citizen Looking for Multidimensional Migration Challenges\, co-financed by the Europe for Citizens Program of the European Union \n \nFinal Conference\, Vienna\, September 17-19\, 2021 \nLocation: Europahaus Wien\, Linzer Straße 429\, 1140 Wien www.europahauswien.at \nParticipation is free of charge\, registration is requested. For registration please send an email to: office@paneuropa.at  \nCertificates should be presented at the registration desk according to 3G-rules! \n10.00 Panel Rethinking the future of Europe \nDuring the CITIMIG project\, we addressed many challenges that are closely intertwined with different European policies (foreign and security policy\, social and employment\, Schengen area\, intercultural dialogue etc.). The conference on the future of Europe is an opportunity for each European citizen to contribute its stone to the European mosaic. It is our responsibility to be proactive when it comes to the future of Europe\, since we need to preserve the basic values that we currently enjoy: democracy\, rule of law and freedom. \nBent Nørby Bonde\, secretary general Europe´s People´s Forum\, Denmark \nLeida Ruvina\, Research Fellow Institute of Advanced Studies in Köszeg\, Hungary \nMag. Mariana Kühnel\, Deputy Secretary General\, Austrian Chamber of Commerce\, Austria \nModerator: Rainhard Kloucek\, Secretary General Paneuropa Movement Austria \n12.30 Lunch \n14.30 Presentation / Final debate / Conclusions (Plenary) \n18.00 End official program
URL:https://www.paneuropa.at/termin/migration-intercultural-dialogue-future-of-europe-citimig-2/
LOCATION:Europahaus Wien\, Linzer Straße 429\, 1140 Wien\, Wien\, 1140\, Austria
CATEGORIES:Paneuropa,Veranstaltung
ORGANIZER;CN="Paneuropabewegung %C3%96sterreich":MAILTO:oesterreich@paneuropa.at
END:VEVENT
END:VCALENDAR