BEGIN:VCALENDAR
VERSION:2.0
PRODID:-//Paneuropa - ECPv6.3.5//NONSGML v1.0//EN
CALSCALE:GREGORIAN
METHOD:PUBLISH
X-ORIGINAL-URL:https://www.paneuropa.at
X-WR-CALDESC:Veranstaltungen für Paneuropa
REFRESH-INTERVAL;VALUE=DURATION:PT1H
X-Robots-Tag:noindex
X-PUBLISHED-TTL:PT1H
BEGIN:VTIMEZONE
TZID:Europe/Vienna
BEGIN:DAYLIGHT
TZOFFSETFROM:+0100
TZOFFSETTO:+0200
TZNAME:CEST
DTSTART:20210328T010000
END:DAYLIGHT
BEGIN:STANDARD
TZOFFSETFROM:+0200
TZOFFSETTO:+0100
TZNAME:CET
DTSTART:20211031T010000
END:STANDARD
END:VTIMEZONE
BEGIN:VEVENT
DTSTART;TZID=Europe/Vienna:20210206T090000
DTEND;TZID=Europe/Vienna:20210206T110000
DTSTAMP:20260423T164351
CREATED:20210112T214742Z
LAST-MODIFIED:20210203T160409Z
UID:2432-1612602000-1612609200@www.paneuropa.at
SUMMARY:Intercultural Dialogue
DESCRIPTION:PANEUROPEAN MOVEMENT AUSTRIA and PANEUROPEAN MOVEMENT SLOVENIA \n in cooperation with the LYON CATHOLIC UNIVERSITY \n \n are inviting you to the Webinar: Intercultural Dialogue within the project CITIZENS LOOKING FOR MULTIDIMENSIONAL MIGRATION CHALLENGES (CITIMIG) \n \nParticipation is free of charge\, registration is requested! \nConference language: English \nFor registration please click here. \n09.00–9.15       Introductory remarks by Asfa-Wossen Asserate\, Chairman of the Board of Directors\, Pactum Africanum \n9.15 – 10.45     Policy lab: how to improve the EU policy frame? \nModerator: Dejan Hribar\, Paneuropean Movement Slovenia \nPhilipp Jauernik\, Chairman of Paneuropean Youth of Austria\nPetr Stach\, Policy Consultant in Brussels\nGerfried Gruber\, Director Forest Policy\, Federal Ministry of Agriculture\, Austria \nCarlos Uriarte Sanchez\, Paneuropa-Union Spain \nand others
URL:https://www.paneuropa.at/termin/intercultural-dialogue-2/
CATEGORIES:Paneuropa,Veranstaltung
ORGANIZER;CN="Paneuropabewegung %C3%96sterreich":MAILTO:oesterreich@paneuropa.at
END:VEVENT
BEGIN:VEVENT
DTSTART;TZID=Europe/Vienna:20210206T130000
DTEND;TZID=Europe/Vienna:20210206T143000
DTSTAMP:20260423T164351
CREATED:20210119T110901Z
LAST-MODIFIED:20210121T142118Z
UID:2438-1612616400-1612621800@www.paneuropa.at
SUMMARY:Rechtsstaat und Freiheit: Was macht Europa aus?
DESCRIPTION:Die Veranstaltung wird online über Zoom durchgeführt. Die Teilnahme ist kostenlos\, eine Anmeldung ist erforderlich.\nHier geht es zur Anmeldung!\nEs diskutieren:\nMag. Caroline Hungerländer\, Landtagsabgeordnete ÖVP Wien\, Mitglied im Vorstand der Paneuropa-Jugend Österreich\nDominik Oberhofer\, Landessprecher Neos Tirol\, Klubobmann\, Mitglied im Kuratorium der Paneuropabewegung Österreich\nDr. Gerhard Jandl\, Botschafter der Republik Österreich beim Europarat in Straßburg\nphilipp Jauernik\, Vorsitzender der Paneuropa-Jugend Österreich\nModeration: stefan Haböck\, internationaler Referent der Paneuropabewegung Österreich\nDie Veranstaltung wird mit einem Ausschnitt aus der „Rede zur Zukunft Europas“ von Karl von Habsburg\, in dem er über die Rechtsstaatlichkeit als eine der Grundlagen Europas spricht\, eingeleitet.\nDie Veranstaltung am 6. Februar ist die erste in einer Reihe von weiteren Veranstaltungen\, in denen wir Schwerpunkte aus der „Rede zur Zukunft Europas“ diskutieren wollen.
URL:https://www.paneuropa.at/termin/rechtsstaat-und-freheit-was-macht-europa-aus/
LOCATION:Online
CATEGORIES:Paneuropa,Veranstaltung
ORGANIZER;CN="Paneuropabewegung %C3%96sterreich":MAILTO:oesterreich@paneuropa.at
END:VEVENT
END:VCALENDAR