BEGIN:VCALENDAR
VERSION:2.0
PRODID:-//Paneuropa - ECPv6.3.5//NONSGML v1.0//EN
CALSCALE:GREGORIAN
METHOD:PUBLISH
X-ORIGINAL-URL:https://www.paneuropa.at
X-WR-CALDESC:Veranstaltungen für Paneuropa
REFRESH-INTERVAL;VALUE=DURATION:PT1H
X-Robots-Tag:noindex
X-PUBLISHED-TTL:PT1H
BEGIN:VTIMEZONE
TZID:Europe/Vienna
BEGIN:DAYLIGHT
TZOFFSETFROM:+0100
TZOFFSETTO:+0200
TZNAME:CEST
DTSTART:20200329T010000
END:DAYLIGHT
BEGIN:STANDARD
TZOFFSETFROM:+0200
TZOFFSETTO:+0100
TZNAME:CET
DTSTART:20201025T010000
END:STANDARD
END:VTIMEZONE
BEGIN:VEVENT
DTSTART;TZID=Europe/Vienna:20201105T180000
DTEND;TZID=Europe/Vienna:20201105T193000
DTSTAMP:20260423T214604
CREATED:20201101T201654Z
LAST-MODIFIED:20201101T201654Z
UID:2314-1604599200-1604604600@www.paneuropa.at
SUMMARY:Die Ukraine nach den Lokalwahlen
DESCRIPTION:Online Diskussion mit Igor Gavrylov\, Generalsekretär der Paneuropa-Union Ukraine\, über die Ergebnisse der Lokalwahlen in der Ukraine und die politische Lage in der Ukraine. \nAnmeldung über Zoom:\nhttps://us02web.zoom.us/meeting/register/tZcpc-ytpjgqGNEZYnxwB8A8IYtPYAr5RJLY \nNach der Registrierung erhalten Sie eine Bestätigungs-E-Mail mit Informationen über die Teilnahme am Meeting. \nDie Veranstaltung findet in englischer Sprache statt.
URL:https://www.paneuropa.at/termin/die-ukraine-nach-den-lokalwahlen/
CATEGORIES:Paneuropa,Veranstaltung
ORGANIZER;CN="Paneuropabewegung %C3%96sterreich":MAILTO:oesterreich@paneuropa.at
END:VEVENT
END:VCALENDAR