BEGIN:VCALENDAR
VERSION:2.0
PRODID:-//Paneuropa - ECPv6.3.5//NONSGML v1.0//EN
CALSCALE:GREGORIAN
METHOD:PUBLISH
X-WR-CALNAME:Paneuropa
X-ORIGINAL-URL:https://www.paneuropa.at
X-WR-CALDESC:Veranstaltungen für Paneuropa
REFRESH-INTERVAL;VALUE=DURATION:PT1H
X-Robots-Tag:noindex
X-PUBLISHED-TTL:PT1H
BEGIN:VTIMEZONE
TZID:Europe/Vienna
BEGIN:DAYLIGHT
TZOFFSETFROM:+0100
TZOFFSETTO:+0200
TZNAME:CEST
DTSTART:20200329T010000
END:DAYLIGHT
BEGIN:STANDARD
TZOFFSETFROM:+0200
TZOFFSETTO:+0100
TZNAME:CET
DTSTART:20201025T010000
END:STANDARD
END:VTIMEZONE
BEGIN:VEVENT
DTSTART;TZID=Europe/Vienna:20201003T090000
DTEND;TZID=Europe/Vienna:20201003T150000
DTSTAMP:20260423T233451
CREATED:20200926T192524Z
LAST-MODIFIED:20200930T204957Z
UID:2269-1601715600-1601737200@www.paneuropa.at
SUMMARY:CITIZENS LOOKING FOR MULTIDIMENSIONAL MIGRATION CHALLENGES
DESCRIPTION:In Cooperation with: EURO-MEDITERRANEAN ECONOMISTS ASSOCIATION \n2 – 3 October 2020\, Participation is free of charge\, registration is requested! \nFor registration: https://us02web.zoom.us/webinar/register/WN_xRJrtO3TQXGgruA4mWuwJg \nConference language: English\n \nCo-funded by the Europe for Citizens Programme of the European Union \n09.00–10.30 Migrations in the light socio-economic perspective \nFrancesca Fauri\, University of Bologna\, Italy \nNadzeya Laurentsyeva\, Ludwig-Maximilians University München\, Germany \nModerator: Severin Gruber\, Paneuropean Movement Austria \nFrom 50s to 70s\, migrations were mainly driven by the economic needs (industry) of Europe. These migrations were mainly within Europe. Nowadays\, (im)migrations are to certain extent politically driven\, though we should not neglect the European demographic prospects and its future needs of skilled labour force. \n10.30–10.45 Break \n10.45–12.15 Challenges of (im)migrations‚ integration process \nMichael Girardi\, Federal Chancellery Republic of Austria\, Department for Integration \nDaniela Irrera\, University of Catania\, Italy \nModerator: Dejan Hribar\, Slovenian Paneuropean Movement \nThe integration process is one of the most important part of (im)migration\, since it affects the social perspective of society. On the one hand the country that accepts migrants need to have a comprehensive integration programme\, while on the other\, (im)migrants need to be willing to undergo the integration process. \n12.15–13.30 Break \n13.30–15.00 European migration management  \nAngeliki Dimitriadi\, Hellenic Foundation for European and Foreign Policy\, Greece \nLukas Mandl\, Member of the European Parliament\, Austria \nModerator: Lovro Klinar\, Slovenian Paneuropean Movement \nParticularly in 2015\, the European Union turned out to be rather disaccorded when it was about the migration management\, thus much of the migration management was left on member states. On the other hand\, the member states refused the proposals of the European Commission to share migration burden\, thus taking away its legitimacy to get more involved in the crisis management. What can we expect from the New Pact on Migration and Asylum?
URL:https://www.paneuropa.at/termin/citizens-looking-for-multidimensional-migration-challenges/
CATEGORIES:Paneuropa,Veranstaltung
ATTACH;FMTTYPE=image/jpeg:https://www.paneuropa.at/wp-content/uploads/2020/06/eu_flag_europe_for_citizens_co_funded_en_rgb_right_-e1593440854540.jpg
ORGANIZER;CN="Paneuropabewegung %C3%96sterreich":MAILTO:oesterreich@paneuropa.at
END:VEVENT
END:VCALENDAR