BEGIN:VCALENDAR
VERSION:2.0
PRODID:-//Paneuropa - ECPv6.3.5//NONSGML v1.0//EN
CALSCALE:GREGORIAN
METHOD:PUBLISH
X-ORIGINAL-URL:https://www.paneuropa.at
X-WR-CALDESC:Veranstaltungen für Paneuropa
REFRESH-INTERVAL;VALUE=DURATION:PT1H
X-Robots-Tag:noindex
X-PUBLISHED-TTL:PT1H
BEGIN:VTIMEZONE
TZID:Europe/Vienna
BEGIN:DAYLIGHT
TZOFFSETFROM:+0100
TZOFFSETTO:+0200
TZNAME:CEST
DTSTART:20200329T010000
END:DAYLIGHT
BEGIN:STANDARD
TZOFFSETFROM:+0200
TZOFFSETTO:+0100
TZNAME:CET
DTSTART:20201025T010000
END:STANDARD
END:VTIMEZONE
BEGIN:VEVENT
DTSTART;TZID=Europe/Vienna:20200913T100000
DTEND;TZID=Europe/Vienna:20200913T113000
DTSTAMP:20260424T005759
CREATED:20200901T133958Z
LAST-MODIFIED:20200907T165451Z
UID:2234-1599991200-1599996600@www.paneuropa.at
SUMMARY:Multidimensional perspective of migration part 3
DESCRIPTION:The Slovenian Paneuropean Movement in cooperation with the Austrian Paneuropean Movement organizes the second international conference (webinar) within Citizens Looking for Multidimensional Migration Challenges (CITIMIG) project – co-financed by the Europe for Citizens Programme of the European Union – that will take place from 11 to 13 September 2020. \nDue to persisting restrictions related to COVID-19\, we need to have it online. \nTo register for the conference\, please use the following link: \nDay 3 (Saturday\, 13 September 2020): \nhttps://us02web.zoom.us/webinar/register/WN_d7z4ztnTSl2U_9LiYDBrLw \n10.00–11.30     Workshop – citizens’ perspectives \nDaniela Irrera\, University of Catania\, Italy \nModerator:      Dejan Hribar\, Slovenian Paneuropean Movement
URL:https://www.paneuropa.at/termin/multidimensional-perspective-of-migration-part-3/
CATEGORIES:Paneuropa,Veranstaltung
END:VEVENT
END:VCALENDAR