BEGIN:VCALENDAR
VERSION:2.0
PRODID:-//Paneuropa - ECPv6.3.5//NONSGML v1.0//EN
CALSCALE:GREGORIAN
METHOD:PUBLISH
X-ORIGINAL-URL:https://www.paneuropa.at
X-WR-CALDESC:Veranstaltungen für Paneuropa
REFRESH-INTERVAL;VALUE=DURATION:PT1H
X-Robots-Tag:noindex
X-PUBLISHED-TTL:PT1H
BEGIN:VTIMEZONE
TZID:Europe/Vienna
BEGIN:DAYLIGHT
TZOFFSETFROM:+0100
TZOFFSETTO:+0200
TZNAME:CEST
DTSTART:20200329T010000
END:DAYLIGHT
BEGIN:STANDARD
TZOFFSETFROM:+0200
TZOFFSETTO:+0100
TZNAME:CET
DTSTART:20201025T010000
END:STANDARD
END:VTIMEZONE
BEGIN:VEVENT
DTSTART;TZID=Europe/Vienna:20200509T000000
DTEND;TZID=Europe/Vienna:20200509T235900
DTSTAMP:20260424T053757
CREATED:20200227T161038Z
LAST-MODIFIED:20200323T102731Z
UID:2031-1588982400-1589068740@www.paneuropa.at
SUMMARY:VI. Otto von Habsburg Symposion / abgesagt
DESCRIPTION:Am 9. Mai hätte das „VI. Otto von Habsburg Symposion“ zum Thema „Freiheit“ stattfinden sollen. Aufgrund der gegebenen Virus-Krise hat die Paneuropabewegung Österreich alle Veranstaltungen bis Ende Mai 2020 abgesagt. \n„Wollten wir eine Richtlinie und ein Programm für die Zukunft erarbeiten\, dann ist vor allem zu klären\, was der tiefere Sinn der Politik ist. Dieser ist nicht Machterhalt und Machtausübung\, wie die meisten zeitgenössischen Bürokraten glauben\, sondern Dienst an den ewigen Werten\, die da sind: Recht\, Freiheit und Menschlichkeit. Ihre Sicherung ist das Wesen und die Rechtfertigung des Staates. Die Politik ist dazu da\, diesen Idealen zu dienen. Das ist die Perspektive\, in welche die Mittel\, Wege und Programme der Politik gestellt werden müssen.“ (Dr. Otto von Habsburg)
URL:https://www.paneuropa.at/termin/vi-otto-von-habsburg-symposion/
LOCATION:Keiner\, Österreich
CATEGORIES:Paneuropa,Veranstaltung
ORGANIZER;CN="Paneuropabewegung %C3%96sterreich":MAILTO:oesterreich@paneuropa.at
END:VEVENT
END:VCALENDAR