BEGIN:VCALENDAR
VERSION:2.0
PRODID:-//Paneuropa - ECPv6.3.5//NONSGML v1.0//EN
CALSCALE:GREGORIAN
METHOD:PUBLISH
X-ORIGINAL-URL:https://www.paneuropa.at
X-WR-CALDESC:Veranstaltungen für Paneuropa
REFRESH-INTERVAL;VALUE=DURATION:PT1H
X-Robots-Tag:noindex
X-PUBLISHED-TTL:PT1H
BEGIN:VTIMEZONE
TZID:Europe/Vienna
BEGIN:DAYLIGHT
TZOFFSETFROM:+0100
TZOFFSETTO:+0200
TZNAME:CEST
DTSTART:20190331T010000
END:DAYLIGHT
BEGIN:STANDARD
TZOFFSETFROM:+0200
TZOFFSETTO:+0100
TZNAME:CET
DTSTART:20191027T010000
END:STANDARD
END:VTIMEZONE
BEGIN:VEVENT
DTSTART;TZID=Europe/Vienna:20191002T190000
DTEND;TZID=Europe/Vienna:20191002T210000
DTSTAMP:20260424T153238
CREATED:20190926T162324Z
LAST-MODIFIED:20190926T162325Z
UID:1928-1570042800-1570050000@www.paneuropa.at
SUMMARY:Die Ergebnisse der Nationalratswahl
DESCRIPTION:Unter der Moderation von \nPaneuropa-Generalsekretär Rainhard Kloucek \ndiskutieren: \nClaudia Crawford \nMultilateraler Dialog\, Konrad Adenauer Stiftung \nPhilipp Jauernik \nVorsitzender der Paneuropa-Jugend und Mitglied im Präsidium der Paneuropabewegung Österreich \n\nim Paneuropabüro\, 1030 Wien\, Neulinggasse 37/3 \naus organisatorischen Gründen bitten wir um ANMELDUNG bis 30. September 2019: oesterreich@paneuropa.at
URL:https://www.paneuropa.at/termin/die-ergebnisse-der-nationalratswahl/
LOCATION:Paneuropa Büro\, Steingasse 25/7\, Wien\, Wien\, 1030\, Österreich
CATEGORIES:Paneuropa,Veranstaltung
ORGANIZER;CN="Paneuropabewegung %C3%96sterreich":MAILTO:oesterreich@paneuropa.at
END:VEVENT
END:VCALENDAR