BEGIN:VCALENDAR
VERSION:2.0
PRODID:-//Paneuropa - ECPv6.3.5//NONSGML v1.0//EN
CALSCALE:GREGORIAN
METHOD:PUBLISH
X-WR-CALNAME:Paneuropa
X-ORIGINAL-URL:https://www.paneuropa.at
X-WR-CALDESC:Veranstaltungen für Paneuropa
REFRESH-INTERVAL;VALUE=DURATION:PT1H
X-Robots-Tag:noindex
X-PUBLISHED-TTL:PT1H
BEGIN:VTIMEZONE
TZID:Europe/Vienna
BEGIN:DAYLIGHT
TZOFFSETFROM:+0100
TZOFFSETTO:+0200
TZNAME:CEST
DTSTART:20190331T010000
END:DAYLIGHT
BEGIN:STANDARD
TZOFFSETFROM:+0200
TZOFFSETTO:+0100
TZNAME:CET
DTSTART:20191027T010000
END:STANDARD
END:VTIMEZONE
BEGIN:VEVENT
DTSTART;TZID=Europe/Vienna:20190807T180000
DTEND;TZID=Europe/Vienna:20190807T220000
DTSTAMP:20260424T184327
CREATED:20190719T161400Z
LAST-MODIFIED:20190719T161400Z
UID:1872-1565200800-1565215200@www.paneuropa.at
SUMMARY:30 Jahre Fall des Eisernen Vorhangs
DESCRIPTION:Einladung zum Podiumsgespräch: \n30 Jahre „Paneuropäisches Picknick“\nMit: \nDr. Walburga Habsburg Douglas\, Präsidentin der Paneuropa-Union Schweden\nDr. Gudula Walterskirchen\, Historikerin\, Herausgeberin von BVZ und NÖN\nAnmeldung bitte bis Freitag\, 2. August 2019 an: h.fenz@bvz.at
URL:https://www.paneuropa.at/termin/30-jahre-fall-des-eisernen-vorhangs/
LOCATION:Gemeinderatssaat Rathaus Eisenstadt\, Hauptstraße 35\, Eisenstadt\, 7000\, Österreich
CATEGORIES:Paneuropa,Veranstaltung
ORGANIZER;CN="Paneuropabewegung %C3%96sterreich":MAILTO:oesterreich@paneuropa.at
END:VEVENT
END:VCALENDAR