BEGIN:VCALENDAR
VERSION:2.0
PRODID:-//Paneuropa - ECPv6.3.5//NONSGML v1.0//EN
CALSCALE:GREGORIAN
METHOD:PUBLISH
X-WR-CALNAME:Paneuropa
X-ORIGINAL-URL:https://www.paneuropa.at
X-WR-CALDESC:Veranstaltungen für Paneuropa
REFRESH-INTERVAL;VALUE=DURATION:PT1H
X-Robots-Tag:noindex
X-PUBLISHED-TTL:PT1H
BEGIN:VTIMEZONE
TZID:Europe/Vienna
BEGIN:DAYLIGHT
TZOFFSETFROM:+0100
TZOFFSETTO:+0200
TZNAME:CEST
DTSTART:20190331T010000
END:DAYLIGHT
BEGIN:STANDARD
TZOFFSETFROM:+0200
TZOFFSETTO:+0100
TZNAME:CET
DTSTART:20191027T010000
END:STANDARD
END:VTIMEZONE
BEGIN:VEVENT
DTSTART;TZID=Europe/Vienna:20190412T190000
DTEND;TZID=Europe/Vienna:20190412T210000
DTSTAMP:20260425T001712
CREATED:20190321T174437Z
LAST-MODIFIED:20190321T174437Z
UID:1753-1555095600-1555102800@www.paneuropa.at
SUMMARY:Für ein starkes Europa
DESCRIPTION:Bürgermeisterin DI Elisabeth Blanik\, SPÖ Klubobfrau & Abgeordnete zum Tiroler Landtag\nDominik Oberhofer\, NEOS Klubobmann & Abgeordneter zum Tiroler Landtag\nKarl von Habsburg\, Präsident der Paneuropabewegung Österreich
URL:https://www.paneuropa.at/termin/fuer-ein-starkes-europa-2/
LOCATION:Grand Hotel Lienz\, Funny-Wibmer-Predit Straße 2\, Lienz\, Osttirol\, 9900\, Österreich
CATEGORIES:Paneuropa,Veranstaltung
ORGANIZER;CN="Paneuropabewegung %C3%96sterreich":MAILTO:oesterreich@paneuropa.at
END:VEVENT
END:VCALENDAR