BEGIN:VCALENDAR
VERSION:2.0
PRODID:-//Paneuropa - ECPv6.3.5//NONSGML v1.0//EN
CALSCALE:GREGORIAN
METHOD:PUBLISH
X-WR-CALNAME:Paneuropa
X-ORIGINAL-URL:https://www.paneuropa.at
X-WR-CALDESC:Veranstaltungen für Paneuropa
REFRESH-INTERVAL;VALUE=DURATION:PT1H
X-Robots-Tag:noindex
X-PUBLISHED-TTL:PT1H
BEGIN:VTIMEZONE
TZID:Europe/Vienna
BEGIN:DAYLIGHT
TZOFFSETFROM:+0100
TZOFFSETTO:+0200
TZNAME:CEST
DTSTART:20190331T010000
END:DAYLIGHT
BEGIN:STANDARD
TZOFFSETFROM:+0200
TZOFFSETTO:+0100
TZNAME:CET
DTSTART:20191027T010000
END:STANDARD
END:VTIMEZONE
BEGIN:VEVENT
DTSTART;TZID=Europe/Vienna:20190411T190000
DTEND;TZID=Europe/Vienna:20190411T210000
DTSTAMP:20260425T001049
CREATED:20190321T175105Z
LAST-MODIFIED:20190321T175105Z
UID:1756-1555009200-1555016400@www.paneuropa.at
SUMMARY:Umgang mit dem Kulturmarxismus
DESCRIPTION:Der „Kulturmarxismus“  ist der aktuell heftigste Angriff auf freiheitliche Institutionen : Er geht vor allem  über Medien\, das staatliche Bildungswesen inclusive Universitäten  und die öffentliche Verwaltung vor sich. Im Kern besteht er in einer radikalen Gleichheitsutopie \, die sich gegen Familie\, Ehe und alle partikularen Loyalitäten \,Bindungen und Identitäten richtet (von der Genderideologie bis zur sog. Antidiskriminierungspolitik\, der Sprachreinigung usw.) Jeder Liberale und Konservative sollte ein klares Bild dessen haben\, was hier vor sich geht und darauf rational reagieren können. \nEs spricht: Prof. Gerd Habermann\, Geschäftsführer der Hayek-Gesellschaft\nEine Veranstaltung des Hayek-Club Salzburg\, zu der die Paneuropabewegung mit Freude mit einlädt. \nOrt: Hotel Altstadt/Radisson Blu\, Renaissance Saal (1. Stock)\, Rudolfskai 28/Judengasse 15\, 5020 Salzburg
URL:https://www.paneuropa.at/termin/umgang-mit-dem-kulturmarxismus/
LOCATION:Hotel Altstadt/Radisson Blu\, Rudolfskai 28/Judengasse 15\, Salzburg\, Salzburg\, 5020\, Österreich
CATEGORIES:Paneuropa,Veranstaltung
ORGANIZER;CN="Paneuropabewegung %C3%96sterreich":MAILTO:oesterreich@paneuropa.at
END:VEVENT
END:VCALENDAR