BEGIN:VCALENDAR
VERSION:2.0
PRODID:-//Paneuropa - ECPv6.3.5//NONSGML v1.0//EN
CALSCALE:GREGORIAN
METHOD:PUBLISH
X-WR-CALNAME:Paneuropa
X-ORIGINAL-URL:https://www.paneuropa.at
X-WR-CALDESC:Veranstaltungen für Paneuropa
REFRESH-INTERVAL;VALUE=DURATION:PT1H
X-Robots-Tag:noindex
X-PUBLISHED-TTL:PT1H
BEGIN:VTIMEZONE
TZID:Europe/Vienna
BEGIN:DAYLIGHT
TZOFFSETFROM:+0100
TZOFFSETTO:+0200
TZNAME:CEST
DTSTART:20190331T010000
END:DAYLIGHT
BEGIN:STANDARD
TZOFFSETFROM:+0200
TZOFFSETTO:+0100
TZNAME:CET
DTSTART:20191027T010000
END:STANDARD
END:VTIMEZONE
BEGIN:VEVENT
DTSTART;TZID=Europe/Vienna:20190116T190000
DTEND;TZID=Europe/Vienna:20190116T210000
DTSTAMP:20260425T043152
CREATED:20181127T211929Z
LAST-MODIFIED:20181127T211929Z
UID:1636-1547665200-1547672400@www.paneuropa.at
SUMMARY:Liberale Perspektiven für Europa
DESCRIPTION:Mit: Dr. Stefan Zotti\, Bildungsmanager
URL:https://www.paneuropa.at/termin/liberale-perspektiven-fuer-europa/
LOCATION:Paneuropa Büro\, Steingasse 25/7\, Wien\, Wien\, 1030\, Österreich
CATEGORIES:Paneuropa
ORGANIZER;CN="Paneuropabewegung %C3%96sterreich":MAILTO:oesterreich@paneuropa.at
END:VEVENT
END:VCALENDAR