BEGIN:VCALENDAR
VERSION:2.0
PRODID:-//Paneuropa - ECPv6.3.5//NONSGML v1.0//EN
CALSCALE:GREGORIAN
METHOD:PUBLISH
X-WR-CALNAME:Paneuropa
X-ORIGINAL-URL:https://www.paneuropa.at
X-WR-CALDESC:Veranstaltungen für Paneuropa
REFRESH-INTERVAL;VALUE=DURATION:PT1H
X-Robots-Tag:noindex
X-PUBLISHED-TTL:PT1H
BEGIN:VTIMEZONE
TZID:Europe/Vienna
BEGIN:DAYLIGHT
TZOFFSETFROM:+0100
TZOFFSETTO:+0200
TZNAME:CEST
DTSTART:20180325T010000
END:DAYLIGHT
BEGIN:STANDARD
TZOFFSETFROM:+0200
TZOFFSETTO:+0100
TZNAME:CET
DTSTART:20181028T010000
END:STANDARD
END:VTIMEZONE
BEGIN:VEVENT
DTSTART;TZID=Europe/Vienna:20181205T190000
DTEND;TZID=Europe/Vienna:20181205T210000
DTSTAMP:20260425T060100
CREATED:20181127T211754Z
LAST-MODIFIED:20181127T211754Z
UID:1634-1544036400-1544043600@www.paneuropa.at
SUMMARY:Von der Ratspräsidentschaft zur Europawahl – aktuelle Herausforderungen und Perspektiven in der Europapolitik
DESCRIPTION:Es spricht: Mag. Michael Jungwirth\, Europakorrespondent „Kleine Zeitung“\nNoch bis Ende des Jahres hat Österreich die Ratspräsidentschaft in der EU inne. Manche Hoffnungen wurden geweckt\, manche Kritiken bereits geäußert. Vor allem in Südosteuropa hatte man große Hoffnungen\, dass Österreich\, das in der Region noch so etwas wie eine Großmacht ist\, einige wichtige Punkte voranbringen wird. Das war beispielsweise die Visaliberalisierung für die Bürger des Kosovo. Nun zeigt sich aber ganz deutlich\, dass unter anderem in dieser Frage nichts weitergehen wird. Zuviele Länder stehen auf der Bremse. \nEiner der Gründe dafür ist die bevorstehende Europawahl im Mai 2019. Dann sind die Bürger der EU wieder einmal aufgerufen\, ihre Vertreter im Europäischen Parlament zu wählen. Und weil die Regierungschefs der EU-Länder fürchten\, dass ihre Parteien bei dieser Europawahl verlieren könnten\, wenn sie jetzt Schritte in Richtung Erweiterung\, oder auch nur einer (letzten) Visaliberalisierung setzen\, und die sogenannten Europaskeptiker gewinnen könnten\, stehen sie bei vielen Fragen auf der Bremse. Eine gesamteuropäische Grundsatzfrage wird wegen parteitaktischen Erwägungen auf Eis gelegt. \nNatürlich werfen die Europawahlen bereits ihren Schatten voraus. Neue Allianzen zwischen alten Parteien und neuen Bewegungen werden geschmiedet. Die sogenannten Pro-Europäer fürchten\, dass die sogenannten Anti-Europäer bei der Wahl stark zulegen könnten. Mit Italien wird bereits ein Land von einer eigenartigen Koalition aus Populisten regiert. Die Furcht vor einem Europäischen Parlament\, das eine oder mehrere starke Fraktionen von Europaskeptikern hat\, ist durchaus berechtigt. \nDie Ausganglage vor der Europawahl\, die schon erkennbaren Erfolge und Verzögerungen der Ratspräsidentschaft sind Themen\, die wir mit dem Europajournalisten der Kleinen Zeitung\, Mag. Michael Jungwirth\, am 5. Dezember beim Jour-Fixe besprechen wollen.
URL:https://www.paneuropa.at/termin/von-der-ratspraesidentschaft-zur-europawahl-aktuelle-herausforderungen-und-perspektiven-in-der-europapolitik/
LOCATION:Paneuropa Büro\, Steingasse 25/7\, Wien\, Wien\, 1030\, Österreich
CATEGORIES:Paneuropa
ORGANIZER;CN="Paneuropabewegung %C3%96sterreich":MAILTO:oesterreich@paneuropa.at
END:VEVENT
END:VCALENDAR